BEGIN:VCALENDAR
VERSION:2.0
PRODID:-//ChamberMaster//Event Calendar 2.0//EN
METHOD:PUBLISH
X-PUBLISHED-TTL:P3D
REFRESH-INTERVAL:P3D
CALSCALE:GREGORIAN
BEGIN:VEVENT
DTSTART:20190727T133000Z
DTEND:20190727T150000Z
X-MICROSOFT-CDO-ALLDAYEVENT:FALSE
SUMMARY:Youth Fishing Derby
DESCRIPTION:Come out to the 14th Annual City of Pickerington Youth Fishing Derby.  Enjoy a morning fishing on the pond with your friends and family.  Prizes for everyone and most fish and biggest fish caught in each age division:  8 years and under\, 9-10 years\, 11-12 year and 13-14 years.\n\n\n\nBring your own fishing pole\, secret bait and pail.  Everything is free\, although registration is required by Thursday\, July 25th. \n\n\n\nAge Divisions:\n\n	8 years and under\n	9-10 years\n	11-12 years\n	13-14 years
X-ALT-DESC;FMTTYPE=text/html:<br />\nCome out to the 14<sup>th</sup> Annual City of Pickerington Youth Fishing Derby.&nbsp\; Enjoy a morning fishing on the pond with your friends and family.&nbsp\; Prizes for everyone and most fish and biggest fish caught in each age division:&nbsp\; 8 years and under\, 9-10 years\, 11-12 year and 13-14 years.<br />\n<br />\nBring your own fishing pole\, secret bait and pail.&nbsp\; Everything is free\, although registration is required by Thursday\, July 25<sup>th</sup>.&nbsp\;<br />\n<br />\nAge Divisions:\n<ul>\n	<li>8 years and under</li>\n	<li>9-10 years</li>\n	<li>11-12 years</li>\n	<li>13-14 years</li>\n</ul>\n
LOCATION:Sycamore Creek Park Pond
UID:e.1451.12934
SEQUENCE:3
DTSTAMP:20260425T222620Z
URL:https://business.pickeringtonchamber.com/events/details/youth-fishing-derby-12934
END:VEVENT

END:VCALENDAR
