BEGIN:VCALENDAR
VERSION:2.0
PRODID:-//ChamberMaster//Event Calendar 2.0//EN
METHOD:PUBLISH
X-PUBLISHED-TTL:P3D
REFRESH-INTERVAL:P3D
CALSCALE:GREGORIAN
BEGIN:VEVENT
DTSTART:20210507T130000Z
DTEND:20210507T143000Z
X-MICROSOFT-CDO-ALLDAYEVENT:FALSE
SUMMARY:Women's Leadership Coalition - "The Truth About Who You REALLY Are"
DESCRIPTION:Join us on Friday\, May 7\, 2021\, from 9-10:30 a.m. as Katrina Zidel presents\, "The Truth About Who You Really Are" at the next Women's Leadership Coalition meeting!  \n\n	Do you believe that your personality (how you think\, act and feel) is responsible for creating your personal reality?\n	Who are you without all your titles?\n	If you could create your identity\, who would you like to become?\n	How would this new identity improve your life? \n	How would creating your desired outcome add value to your life? \n\n Key Takeaways:\n\n\n	Learn who you are in this moment\n	Create who you want to become\n	Develop a practice to maintain your new identity\n	See the benefits and value in knowing who you are
X-ALT-DESC;FMTTYPE=text/html:<br />\nJoin us on <strong>Friday\, May 7\, 2021\,</strong> from <strong>9-10:30 a.m.</strong> as <strong>Katrina Zidel</strong> presents\, <strong>&quot\;The Truth About Who You Really Are&quot\;</strong> at the next <strong>Women&#39\;s Leadership Coalition</strong> meeting!&nbsp\;&nbsp\;\n<ul>\n	<li><span style="font-size:12px\;">Do you believe that your personality (how you think\, act and feel) is responsible for creating your personal reality?</span></li>\n	<li><span style="font-size:12px\;">Who are you without all your titles?</span></li>\n	<li><span style="font-size:12px\;">If you could create your identity\, who would you like to become?</span></li>\n	<li><span style="font-size:12px\;">How would this new identity improve your life? </span></li>\n	<li><span style="font-size:12px\;">How would creating your desired outcome add value to your life?</span>&#8203\;</li>\n</ul>\n&#8203\;<strong><u>Key Takeaways:</u></strong>\n\n<ul>\n	<li style="font-size: 12px\;">Learn who you are in this moment</li>\n	<li style="font-size: 12px\;">Create who you want to become</li>\n	<li style="font-size: 12px\;">Develop a practice to maintain your new identity</li>\n	<li><span style="font-size:12.5pt\;"><span style="font-size:12px\;">See the benefits and value in knowing who you are</span></span></li>\n</ul>\n
LOCATION:Virtual Meeting
UID:e.1451.15023
SEQUENCE:3
DTSTAMP:20260424T112837Z
URL:https://business.pickeringtonchamber.com/events/details/women-s-leadership-coalition-the-truth-about-who-you-really-are-15023
END:VEVENT

END:VCALENDAR
