BEGIN:VCALENDAR
VERSION:2.0
PRODID:-//ChamberMaster//Event Calendar 2.0//EN
METHOD:PUBLISH
X-PUBLISHED-TTL:P3D
REFRESH-INTERVAL:P3D
CALSCALE:GREGORIAN
BEGIN:VEVENT
DTSTART:20190314T213000Z
DTEND:20190314T233000Z
X-MICROSOFT-CDO-ALLDAYEVENT:FALSE
SUMMARY:Women's Leadership Coalition Quarterly Social!
DESCRIPTION:Join us on Thursday\, March 14\, 2019\, from 5:30-7:30 pm. for our first Women's Leadership Coalition Quarterly Social for the year!  This will be a great opportunity to learn all about the Women's Leadership Coalition and how to join\, plus make some new connections\, catch up with old friends\, and enjoy an evening of networking and snacks!  \n\n\n\nThis event will be held at Hangry City Grille\, the 2018 Rising Star Award recipient!
X-ALT-DESC;FMTTYPE=text/html:<br />\nJoin us on Thursday\, March 14\, 2019\, from 5:30-7:30 pm. for our first Women&#39\;s Leadership Coalition Quarterly Social for the year!&nbsp\; This will be a great opportunity to learn all about the Women&#39\;s Leadership Coalition and how to join\, plus make some new connections\, catch up with old friends\, and enjoy an evening of networking and snacks!&nbsp\;&nbsp\;<br />\n<br />\nThis event will be held at Hangry City Grille\, the 2018 Rising Star Award recipient!&nbsp\;&nbsp\;
LOCATION:Hangry City Grille and Spirits 1252 Hill Rd. N Pickerington\, OH 43147
UID:e.1451.12756
SEQUENCE:3
DTSTAMP:20260426T040954Z
URL:https://business.pickeringtonchamber.com/events/details/women-s-leadership-coalition-quarterly-social-12756
END:VEVENT

END:VCALENDAR
