BEGIN:VCALENDAR
VERSION:2.0
PRODID:-//ChamberMaster//Event Calendar 2.0//EN
METHOD:PUBLISH
X-PUBLISHED-TTL:P3D
REFRESH-INTERVAL:P3D
CALSCALE:GREGORIAN
BEGIN:VEVENT
DTSTART:20191205T220000Z
DTEND:20191206T000000Z
X-MICROSOFT-CDO-ALLDAYEVENT:FALSE
SUMMARY:Women's Leadership Coalition - Holiday Social!
DESCRIPTION:Join us on Thursday\, December 5\, 2019\, from 5-7 p.m. as we host the Annual Women's Leadership Coalition Holiday Social!  This year\, we will meet at AR Workshop and put our creativity to the test!  Sign up to make a new sign for your house\, an ornament for your tree or more\, OR\, if you don't want to make an item\, you can still join us for networking!  \n\n\n\nIf you plan to do a project\, you will need to click here to choose!\n\n\n\nAppetizers and non-alcoholic beverages will be provided.  You are welcome to BYOB for this event!
X-ALT-DESC;FMTTYPE=text/html:<br />\nJoin us on <strong>Thursday\, December 5\, 2019</strong>\, from <strong>5-7 p.m</strong>. as we host the <strong>Annual Women&#39\;s Leadership Coalition Holiday Social!&nbsp\;</strong> This year\, we will meet at <strong>AR Workshop</strong> and put our creativity to the test!&nbsp\; Sign up to make a new sign for your house\, an ornament for your tree or more\, OR\, if you don&#39\;t want to make an item\, you can still join us for networking!&nbsp\;&nbsp\;<br />\n<br />\n<a href="https://www.arworkshop.com/event/?loc=pickerington&amp\;ev=130487">If you plan to do a project\, you will need to click here to choose!</a><br />\n<br />\nAppetizers and non-alcoholic beverages will be provided.&nbsp\; You are welcome to BYOB for this event!
LOCATION:AR Workshop 1039 Hill Rd. N (Near Kroger) Pickerington
UID:e.1451.13738
SEQUENCE:3
DTSTAMP:20260425T141159Z
URL:https://business.pickeringtonchamber.com/events/details/women-s-leadership-coalition-holiday-social-13738
END:VEVENT

END:VCALENDAR
