BEGIN:VCALENDAR
VERSION:2.0
PRODID:-//ChamberMaster//Event Calendar 2.0//EN
METHOD:PUBLISH
X-PUBLISHED-TTL:P3D
REFRESH-INTERVAL:P3D
CALSCALE:GREGORIAN
BEGIN:VEVENT
DTSTART:20210108T140000Z
DTEND:20210108T153000Z
X-MICROSOFT-CDO-ALLDAYEVENT:FALSE
SUMMARY:Women's Leadership Coalition - "Goal Setter to Goal GETTER!"
DESCRIPTION:Join us on Friday\, January 8\, 2021\, as we host our first "virtual" Women's Leadership Coalition meeting of the new year.  "How to Go from Goal Setter to Goal GETTER" is our topic and Amy Bauman is our fabulous speaker!\n\n\n\nYou have a list of goals goals that will improve your business\, your career\, your health\, your overall life! So why aren't you achieving them?  In this workshop\, you'll learn how to go from being a goal setter to being a goal GETTER!\n\n\n\nDuring this event\, you will:\n\n	Learn how to create the big picture vision for your life that aligns with your values and your "why"\n	Learn how to create goals that move you toward that big picture vision for your life\n	Learn both the psychology to change your mindset and the practical action steps to take to achieve those goals\n\nAmy Bauman combines her talent for teaching with her passion for helping women grow personally and professionally. As Development Facilitator and Business Psychologist\, Amy specializes in working with women entrepreneurs and business professionals to get them unstuck from their self-doubt and fears so they can take ACTION toward achieving their goals and vision. Amy has a BS in Education and an MS in Business Psychology. She is a graduate of the WSBA's Inspired Entrepreneur program.
X-ALT-DESC;FMTTYPE=text/html:<br />\nJoin us on <strong>Friday\, January 8\, 2021</strong>\, as we host our first &quot\;virtual&quot\; <strong>Women&#39\;s Leadership Coalition </strong>meeting of the new year.&nbsp\;<strong> &quot\;How to Go from Goal Setter to Goal GETTER&quot\; </strong>is our topic and <strong>Amy Bauman</strong> is our fabulous speaker!<br />\n<br />\nYou have a list of goals&hellip\;goals that will improve your business\, your career\, your health\, your overall life! So why aren&rsquo\;t you achieving them?&nbsp\; In this workshop\, you&rsquo\;ll learn how to go from being a goal setter to being a goal GETTER!<br />\n<br />\nDuring this event\, you will:\n<ul>\n	<li>Learn how to create the big picture vision for your life that aligns with your values and your &ldquo\;why&rdquo\;</li>\n	<li>Learn how to create goals that move you toward that big picture vision for your life</li>\n	<li>Learn both the psychology to change your mindset and the practical action steps to take to achieve those goals</li>\n</ul>\nAmy Bauman combines her talent for teaching with her passion for helping women grow personally and professionally. As Development Facilitator and Business Psychologist\, Amy specializes in working with women entrepreneurs and business professionals to get them unstuck from their self-doubt and fears so they can take ACTION toward achieving their goals and vision. Amy has a BS in Education and an MS in Business Psychology. She is a graduate of the WSBA&rsquo\;s Inspired Entrepreneur program.
LOCATION:From the comfort of your home/office!
UID:e.1451.14871
SEQUENCE:3
DTSTAMP:20260424T185417Z
URL:https://business.pickeringtonchamber.com/events/details/women-s-leadership-coalition-goal-setter-to-goal-getter-14871
END:VEVENT

END:VCALENDAR
