BEGIN:VCALENDAR
VERSION:2.0
PRODID:-//ChamberMaster//Event Calendar 2.0//EN
METHOD:PUBLISH
X-PUBLISHED-TTL:P3D
REFRESH-INTERVAL:P3D
CALSCALE:GREGORIAN
BEGIN:VEVENT
DTSTART:20201113T140000Z
DTEND:20201113T150000Z
X-MICROSOFT-CDO-ALLDAYEVENT:FALSE
SUMMARY:Women's Leadership Coalition - Final Meeting of 2020!
DESCRIPTION:Join us for the final Women's Leadership Coalition meeting of 2020 on Friday\, November 13th from 9-10 a.m.  This meeting will be held virtually.  We will be reviewing 2020 and sharing ideas for 2021\, so dust off those calendars\, start thinking about your goals for the new year\, and let's hold each other accountable.  \n\n\n\nWhat do you want to achieve in your business or personally in 2021?\n\n*  Business Growth\n\n*  New market segment\n\n*  Expansion\n\n*  Work less\, enjoy life more\n\n*  Spend more quality family time\n\n\n\nNo matter what your goal for 2021\, we are going to discuss and put a plan in place\, so join us!!!
X-ALT-DESC;FMTTYPE=text/html:<br />\n<span style="font-family:verdana\;">Join us for the final Women&#39\;s Leadership Coalition meeting of 2020 on Friday\, November 13th from 9-10 a.m.&nbsp\; This meeting will be held virtually.&nbsp\; We will be reviewing 2020 and sharing ideas for 2021\, so dust off those calendars\, start thinking about your goals for the new year\, and let&#39\;s hold each other accountable.&nbsp\;&nbsp\;<br />\n<br />\nWhat do you want to achieve in your business or personally in 2021?<br />\n*&nbsp\; Business Growth<br />\n*&nbsp\; New market segment<br />\n*&nbsp\; Expansion<br />\n*&nbsp\; Work less\, enjoy life more<br />\n*&nbsp\; Spend more quality family time<br />\n<br />\nNo matter what your goal for 2021\, we are going to discuss and put a plan in place\, so join us!!!&nbsp\;&nbsp\;</span>
LOCATION:Virtual Event - Please RSVP for link.
UID:e.1451.14744
SEQUENCE:3
DTSTAMP:20260424T203715Z
URL:https://business.pickeringtonchamber.com/events/details/women-s-leadership-coalition-final-meeting-of-2020-14744
END:VEVENT

END:VCALENDAR
