BEGIN:VCALENDAR
VERSION:2.0
PRODID:-//ChamberMaster//Event Calendar 2.0//EN
METHOD:PUBLISH
X-PUBLISHED-TTL:P3D
REFRESH-INTERVAL:P3D
CALSCALE:GREGORIAN
BEGIN:VEVENT
DTSTART:20200904T130000Z
DTEND:20200904T140000Z
X-MICROSOFT-CDO-ALLDAYEVENT:FALSE
SUMMARY:Women's Leadership Coalition - Back at it!
DESCRIPTION:WE ARE BACK!!!  \n\n\n\nJoin us on Friday\, September 4\, 2020\, at 9:00 a.m. for our first Women's Leadership Coalition meeting since May!  We have missed you dearly and hope that you are doing well.  During this meeting\, we will spend time catching up\, telling stories\, and talking about what's to come with the A Day of ATHENA event!  \n\n\n\nYes\, we will be virtual\, but we will cover a lot in an hour and get you re-connected!
X-ALT-DESC;FMTTYPE=text/html:<br />\n<strong>WE ARE BACK!!!&nbsp\;&nbsp\;</strong><br />\n<br />\nJoin us on <strong>Friday\, September 4\, 2020</strong>\, at 9:00 a.m. for our first <strong>Women&#39\;s Leadership Coalition</strong> meeting since May!&nbsp\; We have missed you dearly and hope that you are doing well.&nbsp\; During this meeting\, we will spend time catching up\, telling stories\, and talking about what&#39\;s to come with the A Day of ATHENA event!&nbsp\;&nbsp\;<br />\n<br />\nYes\, we will be virtual\, but we will cover a lot in an hour and get you re-connected!&nbsp\;&nbsp\;
LOCATION:
UID:e.1451.14589
SEQUENCE:3
DTSTAMP:20260425T010257Z
URL:https://business.pickeringtonchamber.com/events/details/women-s-leadership-coalition-back-at-it-14589
END:VEVENT

END:VCALENDAR
