BEGIN:VCALENDAR
VERSION:2.0
PRODID:-//ChamberMaster//Event Calendar 2.0//EN
METHOD:PUBLISH
X-PUBLISHED-TTL:P3D
REFRESH-INTERVAL:P3D
CALSCALE:GREGORIAN
BEGIN:VEVENT
DTSTART:20220318T120000Z
DTEND:20220318T133000Z
X-MICROSOFT-CDO-ALLDAYEVENT:FALSE
SUMMARY:WLC Presents- 2022: The Year to Begin Living in Your Truth
DESCRIPTION:***WLC RESCHEDULED FROM MARCH 4TH***\n\n\n\n\n\nTHIS is your invitation to start living in your truth!\nJoin us on Friday\, March 18th from 8am to 9:30am at Cultivate Pickerington to hear from two experts on "living in your truth." Yoga teacher\, Alison Forche\, will lead us through breathing techniques and practicing gratitude. If you enjoyed January's presentation on what self-care is and isn't- you'll love hearing some tangible ways you can practice "self-care" in this month's meeting! Plus\, what are chakras? Reiki master\, Allison Kuhn\, will guide us through meditation and positive affirmations and explain how they can affect your 7 major "energy centers\," known as chakras. You are guaranteed to leave feeling relaxed AND energized\, so register today!\n\nAbout Alison Forche: \n As the Relationship Manager for Gerber\, Alison works hard to develop strong referral relationships with area business leaders and strategic partners. Before joining the Gerber team\, Alison was the Practice Manager and Marketing Director for Rob Forche Orthodontics\, her husband's business\, and an attorney with Forche Law and Mediation - Divorce and Custody Mediation and Eldercare Planning and Mediation\, where she still practices. She earned a BA in psychology from The Ohio State University\, and a Juris Doctorate from Capital University School of Law\, graduation Summa Cum Laude with both degrees. When she's not at work\, Alison spends her time with family and friends\, exercising and volunteering. She enjoys teaching Yoga\, hiking\, snowshoeing\, skiing\, meditation and walking with friends. When she finally sits down\, Alison loves to listen to non-fiction\, business and self-improvement podcasts and books\, and attends as many continuing education/training opportunities as possible. In both her personal and professional lives\, Alison strives to be the best she can be.\n\nAbout Allison Kuhn:\n Allison Kuhn received her RYT200 in May 2017 from The Yoga Training Center with Laurel Hodory and is certified in the Hatha Vinyasa and Ashtanga style. Allison is known for her authentic\, non-judgmental teaching style and mindfulness centering. Her personality shines thru in every class and provides a fun atmosphere. She aims to bring students to the top of their potential by encouraging growth of the physical and spiritual self.\n\nAllison is a Registered Yoga Teacher (RYT) with the Yoga Alliance\, which acknowledges the completion of a yoga teacher training with an approved and active Registered Yoga School.\n\nAllison received her certification in December 2018 as a Reiki Master and Teacher and was trained in the traditional Usui system.
X-ALT-DESC;FMTTYPE=text/html:<h2>***WLC RESCHEDULED FROM MARCH 4TH***<br />\n<br />\n<br />\n<span style="font-family:arial\;">THIS is your invitation to start living in your truth!</span></h2>\n<span style="font-family:arial\;"><span style="font-size:14px\;">Join us on Friday\, March 18th from 8am to 9:30am at Cultivate Pickerington to hear from two experts on &quot\;living in your truth.&quot\; Yoga teacher\, Alison Forche\, will lead us through breathing techniques and practicing gratitude. If you enjoyed January&#39\;s presentation on what self-care is and isn&#39\;t- you&#39\;ll love hearing some tangible ways you can practice &quot\;self-care&quot\; in this month&#39\;s meeting! Plus\, what are chakras? Reiki master\, Allison Kuhn\, will guide us through meditation and positive affirmations and explain how they can affect your 7 major &quot\;energy centers\,&quot\; known as chakras. You are guaranteed to leave feeling relaxed AND energized\, so register today!</span></span>\n\n<h2><span style="font-family:arial\;">About Alison Forche:&nbsp\;</span></h2>\n<span style="font-family:arial\;"> <span style="font-size:14px\;">As the Relationship Manager for <a href="http://gerberclarity.com/home">Gerber</a>\, Alison&nbsp\;<span style="color:black\;">works hard to develop strong referral relationships with area business leaders and strategic partners.&nbsp\;Before joining the Gerber team\, Alison was the Practice Manager and Marketing Director for Rob Forche Orthodontics\, her husband&#39\;s business\, and an attorney with Forche Law and Mediation - Divorce and Custody Mediation and Eldercare Planning and Mediation\, where she still practices. She&nbsp\;earned a BA in psychology from The Ohio State University\, and a Juris Doctorate from Capital University School of Law\, graduation Summa Cum Laude with both degrees.</span></span><span style="color:black\;">&nbsp\;<span style="font-size:14px\;">When she&#39\;s not at work\, Alison spends her time with family and friends\, exercising and volunteering. She enjoys teaching Yoga\, hiking\, snowshoeing\, skiing\, meditation and walking with friends. When she finally sits down\, Alison loves to listen to non-fiction\, business and self-improvement podcasts and books\, and attends as many continuing education/training opportunities as possible. In both her personal and professional lives\, Alison strives to be the best she can be.</span></span></span>\n\n<h2><span style="font-family:arial\;">About Allison Kuhn:</span></h2>\n<span style="font-family:arial\;"> <span style="font-size:14px\;">Allison Kuhn received her RYT200 in May 2017 from The Yoga Training Center with Laurel Hodory and is certified in the Hatha Vinyasa and Ashtanga style. Allison is known for her authentic\, non-judgmental teaching style and mindfulness centering. Her personality shines thru in every class and provides a fun atmosphere. She aims to bring students to the top of their potential by encouraging growth of the physical and spiritual self.<br />\nAllison is a Registered Yoga Teacher (RYT) with the Yoga Alliance\, which acknowledges the completion of a yoga teacher training with an approved and active Registered Yoga School.<br />\nAllison received her certification in December 2018 as a Reiki Master and Teacher and was trained in the traditional Usui system. </span></span><br />\n&nbsp\;\n<h2>&nbsp\;</h2>\n
LOCATION:Cultivate Pickerington 19 N Center St. (Directly across from the Chamber)
UID:e.1451.15570
SEQUENCE:3
DTSTAMP:20260423T204813Z
URL:https://business.pickeringtonchamber.com/events/details/wlc-presents-2022-the-year-to-begin-living-in-your-truth-15570
END:VEVENT

END:VCALENDAR
