BEGIN:VCALENDAR
VERSION:2.0
PRODID:-//ChamberMaster//Event Calendar 2.0//EN
METHOD:PUBLISH
X-PUBLISHED-TTL:P3D
REFRESH-INTERVAL:P3D
CALSCALE:GREGORIAN
BEGIN:VEVENT
DTSTART:20211105T120000Z
DTEND:20211105T133000Z
X-MICROSOFT-CDO-ALLDAYEVENT:FALSE
SUMMARY:WLC CANCELED
DESCRIPTION:Due to scheduling issues and staff development\, the PACC has canceled this month's WLC meeting. \n\n\n\nPlease join us for the DECEMBER SOCIAL- details coming soon!
X-ALT-DESC;FMTTYPE=text/html:Due to scheduling issues and staff development\, the PACC has canceled this month&#39\;s WLC meeting.&nbsp\;<br />\n<br />\nPlease join us for the <em><strong>DECEMBER SOCIAL- details coming soon!</strong></em>
LOCATION:Canceled.
UID:e.1451.15498
SEQUENCE:3
DTSTAMP:20260424T025152Z
URL:https://business.pickeringtonchamber.com/events/details/wlc-canceled-15498
END:VEVENT

END:VCALENDAR
