BEGIN:VCALENDAR
VERSION:2.0
PRODID:-//ChamberMaster//Event Calendar 2.0//EN
METHOD:PUBLISH
X-PUBLISHED-TTL:P3D
REFRESH-INTERVAL:P3D
CALSCALE:GREGORIAN
BEGIN:VEVENT
DTSTART:20200111T150000Z
DTEND:20200111T180000Z
X-MICROSOFT-CDO-ALLDAYEVENT:FALSE
SUMMARY:Winter Hike at Smeck Park
DESCRIPTION:Don't hibernate\, get outside!  Walk the Paw Paw and Walnut Creek Trails then warm up with hot refreshments.  The hike will be approximately two miles long.  Most hikers will finish in less than an hour.  The trails are always open during daylight hours but those who wish to enjoy refreshments should start between 10:00 a.m. and noon.  Refreshment service will start at 10:30 and last until 1:00.\n\nTrail conditions will vary based on weather.  Be prepared with appropriate footwear to hike in muddy or slippery conditions.  Pets are welcome but must always be under control and on a leash no longer than 6 .  For the health and safety of all\, always pick up and properly dispose of pets' waste.
X-ALT-DESC;FMTTYPE=text/html:<p style="text-align:justify">Don&rsquo\;t hibernate\, get outside!&nbsp\; Walk the Paw Paw and Walnut Creek Trails then warm up with hot refreshments.&nbsp\; The hike will be approximately two miles long.&nbsp\; Most hikers will finish in less than an hour.&nbsp\; The trails are always open during daylight hours but those who wish to enjoy refreshments should start between 10:00 a.m. and noon.&nbsp\; Refreshment service will start at 10:30 and last until 1:00.</p>\n\n<p style="text-align:justify">Trail conditions will vary based on weather.&nbsp\; Be prepared with appropriate footwear to hike in muddy or slippery conditions.&nbsp\; Pets are welcome but must always be under control and on a leash no longer than 6&prime\;.&nbsp\; For the health and safety of all\, always pick up and properly dispose of pets&rsquo\; waste.</p>\n
LOCATION:Smeck Park 7395 Basil Rd\, Baltimore\, OH 43105
UID:e.1451.13769
SEQUENCE:3
DTSTAMP:20260425T123217Z
URL:https://business.pickeringtonchamber.com/events/details/winter-hike-at-smeck-park-13769
END:VEVENT

END:VCALENDAR
