BEGIN:VCALENDAR
VERSION:2.0
PRODID:-//ChamberMaster//Event Calendar 2.0//EN
METHOD:PUBLISH
X-PUBLISHED-TTL:P3D
REFRESH-INTERVAL:P3D
CALSCALE:GREGORIAN
BEGIN:VEVENT
DTSTART:20240814T210000Z
DTEND:20240814T230000Z
X-MICROSOFT-CDO-ALLDAYEVENT:FALSE
SUMMARY:Wednesday Connects & WLC Networking Cookout
DESCRIPTION:Join us for this new combined WLC & Wednesday Connects Networking cookout and social at the Redbud Commons patio. PACC will provide hotdogs and hamburgers. You're welcome to bring a side and/or BYOB. Grow your network and have fun!
X-ALT-DESC;FMTTYPE=text/html:<p><span style="font-size:14px\;"><span style="font-family:verdana\;">Join us for this new combined WLC &amp\; Wednesday Connects Networking cookout and social at the Redbud Commons patio. PACC will provide hotdogs and hamburgers. You&#39\;re welcome to bring a side and/or BYOB.&nbsp\;Grow your network and have fun!</span></span></p>\n
LOCATION:Redbud Commons Clubhouse Patio 602 Redbud Dr. Pickerington\, OH 43147
UID:e.1451.16898
SEQUENCE:3
DTSTAMP:20260421T202431Z
URL:https://business.pickeringtonchamber.com/events/details/wednesday-connects-wlc-networking-cookout-16898
END:VEVENT

END:VCALENDAR
