BEGIN:VCALENDAR
VERSION:2.0
PRODID:-//ChamberMaster//Event Calendar 2.0//EN
METHOD:PUBLISH
X-PUBLISHED-TTL:P3D
REFRESH-INTERVAL:P3D
CALSCALE:GREGORIAN
BEGIN:VEVENT
DTSTART:20200818T213000Z
DTEND:20200818T223000Z
X-MICROSOFT-CDO-ALLDAYEVENT:FALSE
SUMMARY:Virtual Career Fair | Heartland Bank
DESCRIPTION:Interested in a new career path? Join us LIVE on Tuesday\, August 18\, to experience the Heartland Bank difference when we reveal why it's a great place to work! Our goal is quality   in our work\, in our play and in our people. What we'll cover in the live video:   Mini tour of the Heartland Bank headquarters in Whitehall\, OH   The Heartland culture and what it's like working here   The current open positions   Review of the interview\, onboarding and training process   Answers to any of the questions from the comment section Our Host: Stephanie Marshall\, AVP Talent Acquisition Manager Stephanie is an Ohio native and has over twenty years of talent acquisition experience in areas including sales\, research and development\, accounting\, and finance. As TA Manager\, Stephanie supports full life-cycle recruiting\, including proactive candidate searches\, and places qualified candidates in positions across a wide range of functional areas at Heartland. Before joining HB\, Stephanie worked in both the corporate and agency side of the recruiting industry\, most recently working as a corporate recruiter for a global organization. Reserve your spot today! On Tuesday\, August 18\, at 5:30 p.m.\, click on this event to participate. Sit back\, relax\, and comment with your questions. This event will be recorded and can be shared by request.
X-ALT-DESC;FMTTYPE=text/html:<br />\nInterested in a new career path? Join us LIVE on Tuesday\, August 18\, to experience the Heartland Bank difference when we reveal why it&rsquo\;s a great place to work! Our goal is quality &ndash\; in our work\, in our play and in our people. What we&rsquo\;ll cover in the live video: &bull\; Mini tour of the Heartland Bank headquarters in Whitehall\, OH &bull\; The Heartland culture and what it&rsquo\;s like working here &bull\; The current open positions &bull\; Review of the interview\, onboarding and training process &bull\; Answers to any of the questions from the comment section Our Host: Stephanie Marshall\, AVP Talent Acquisition Manager Stephanie is an Ohio native and has over twenty years of talent acquisition experience in areas including sales\, research and development\, accounting\, and finance. As TA Manager\, Stephanie supports full life-cycle recruiting\, including proactive candidate searches\, and places qualified candidates in positions across a wide range of functional areas at Heartland. Before joining HB\, Stephanie worked in both the corporate and agency side of the recruiting industry\, most recently working as a corporate recruiter for a global organization. Reserve your spot today! On Tuesday\, August 18\, at 5:30 p.m.\, click on this event to participate. Sit back\, relax\, and comment with your questions. This event will be recorded and can be shared by request.
LOCATION:Virtual Facebook Live Event
UID:e.1451.14564
SEQUENCE:3
DTSTAMP:20260425T024737Z
URL:https://business.pickeringtonchamber.com/events/details/virtual-career-fair-heartland-bank-14564
END:VEVENT

END:VCALENDAR
