BEGIN:VCALENDAR
VERSION:2.0
PRODID:-//ChamberMaster//Event Calendar 2.0//EN
METHOD:PUBLISH
X-PUBLISHED-TTL:P3D
REFRESH-INTERVAL:P3D
CALSCALE:GREGORIAN
BEGIN:VEVENT
DTSTART:20191024T200000Z
DTEND:20191024T220000Z
X-MICROSOFT-CDO-ALLDAYEVENT:FALSE
SUMMARY:VIP Ribbon Cutting at Violet Spring Health Campus
DESCRIPTION:You are cordially invited to join us for an exclusive VIP Ribbon Cutting event to celebrate the opening of Pickerington's newest senior living community\, Violet Springs Health Campus.\n\n\n\nCampus tours\, hors d'oeuvres\, and refreshments will be provided.
X-ALT-DESC;FMTTYPE=text/html:<br />\nYou are cordially invited to join us for an exclusive VIP Ribbon Cutting event to celebrate the opening of Pickerington&#39\;s newest senior living community\, Violet Springs Health Campus.<br />\n<br />\nCampus tours\, hors d&#39\;oeuvres\, and refreshments will be provided.
LOCATION:Violet Springs Health Campus 603 Diley Rd. Pickerington\, OH 43147
UID:e.1451.13683
SEQUENCE:3
DTSTAMP:20260425T173242Z
URL:https://business.pickeringtonchamber.com/events/details/vip-ribbon-cutting-at-violet-spring-health-campus-13683
END:VEVENT

END:VCALENDAR
