BEGIN:VCALENDAR
VERSION:2.0
PRODID:-//ChamberMaster//Event Calendar 2.0//EN
METHOD:PUBLISH
X-PUBLISHED-TTL:P3D
REFRESH-INTERVAL:P3D
CALSCALE:GREGORIAN
BEGIN:VEVENT
DTSTART:20191013T170000Z
DTEND:20191013T190000Z
X-MICROSOFT-CDO-ALLDAYEVENT:FALSE
SUMMARY:Violet Township Fire Department Annual Open House
DESCRIPTION:Mark Your Calendars! The Annual Violet Township Fire Department Open House is set for Sunday\, October 13\, 2019 Festivities will take place from 1:00 - 3:00 P.M. at:\n\n\n\nFire Station 591 \n\n21 Lockville Road\n\nPickerington\, Ohio\n\n\n\nActivities include fire safety houses as well as equipment displays\, tours of the facility\, learning Bystander CPR\, picture taking opportunities\, virtual fire extinguishment and more! Sparky the Fire Dog will also make a guest appearance passing out children's fire helmets.\n\n\n\nWe expect to have a large crowd on hand as our past events have always been busy! We think that you will have a great time and good fun!
X-ALT-DESC;FMTTYPE=text/html:<br />\n<span style="color: rgb(29\, 33\, 41)\; font-family: Helvetica\, Arial\, sans-serif\; font-size: 14px\; white-space: pre-wrap\;">Mark Your Calendars! The Annual Violet Township Fire Department Open House is set for Sunday\, October 13\, 2019 Festivities will take place from 1:00 - 3:00 P.M. at:</span><br style="color: rgb(29\, 33\, 41)\; font-family: Helvetica\, Arial\, sans-serif\; font-size: 14px\; white-space: pre-wrap\;" />\n<br style="color: rgb(29\, 33\, 41)\; font-family: Helvetica\, Arial\, sans-serif\; font-size: 14px\; white-space: pre-wrap\;" />\n<span style="color: rgb(29\, 33\, 41)\; font-family: Helvetica\, Arial\, sans-serif\; font-size: 14px\; white-space: pre-wrap\;">Fire Station 591 </span><br style="color: rgb(29\, 33\, 41)\; font-family: Helvetica\, Arial\, sans-serif\; font-size: 14px\; white-space: pre-wrap\;" />\n<span style="color: rgb(29\, 33\, 41)\; font-family: Helvetica\, Arial\, sans-serif\; font-size: 14px\; white-space: pre-wrap\;">21 Lockville Road</span><br style="color: rgb(29\, 33\, 41)\; font-family: Helvetica\, Arial\, sans-serif\; font-size: 14px\; white-space: pre-wrap\;" />\n<span style="color: rgb(29\, 33\, 41)\; font-family: Helvetica\, Arial\, sans-serif\; font-size: 14px\; white-space: pre-wrap\;">Pickerington\, Ohio</span><br style="color: rgb(29\, 33\, 41)\; font-family: Helvetica\, Arial\, sans-serif\; font-size: 14px\; white-space: pre-wrap\;" />\n<br style="color: rgb(29\, 33\, 41)\; font-family: Helvetica\, Arial\, sans-serif\; font-size: 14px\; white-space: pre-wrap\;" />\n<span style="color: rgb(29\, 33\, 41)\; font-family: Helvetica\, Arial\, sans-serif\; font-size: 14px\; white-space: pre-wrap\;">Activities include fire safety houses as well as equipment displays\, tours of the facility\, learning Bystander CPR\, picture taking opportunities\, virtual fire extinguishment and more! Sparky the Fire Dog will also make a guest appearance passing out children&rsquo\;s fire helmets.</span><br style="color: rgb(29\, 33\, 41)\; font-family: Helvetica\, Arial\, sans-serif\; font-size: 14px\; white-space: pre-wrap\;" />\n<br style="color: rgb(29\, 33\, 41)\; font-family: Helvetica\, Arial\, sans-serif\; font-size: 14px\; white-space: pre-wrap\;" />\n<span style="color: rgb(29\, 33\, 41)\; font-family: Helvetica\, Arial\, sans-serif\; font-size: 14px\; white-space: pre-wrap\;">We expect to have a large crowd on hand as our past events have always been busy! We think that you will have a great time and good fun!</span><br />\n&nbsp\;
LOCATION:Violet Township Fire Station 591 21 Lockville Rd. Pickerington
UID:e.1451.13662
SEQUENCE:3
DTSTAMP:20260425T190814Z
URL:https://business.pickeringtonchamber.com/events/details/violet-township-fire-department-annual-open-house-13662
END:VEVENT

END:VCALENDAR
