BEGIN:VCALENDAR
VERSION:2.0
PRODID:-//ChamberMaster//Event Calendar 2.0//EN
METHOD:PUBLISH
X-PUBLISHED-TTL:P3D
REFRESH-INTERVAL:P3D
CALSCALE:GREGORIAN
BEGIN:VEVENT
DTSTART:20210909T190000Z
DTEND:20210909T230000Z
X-MICROSOFT-CDO-ALLDAYEVENT:FALSE
SUMMARY:VetOHIO EXPO 2021 - Hosted by BuyVet
DESCRIPTION:Welcome to the VetOHIOExpo\, being held on Thursday\, September 9\, 2021 from 3pm-7pm at The Wigwam Event Center!  \n\nThe exciting Expo is designed to showcase Veteran-Owned Business who provide services or products to Business Owners or to the Community.The VetOHIOExpo\, which is being launched by Regina Rembert\, Retired U.S. Army\, and the Founder of the non-profit\, Buy-Vet\, provides an amazing opportunity for the Attendees to express gratitude for our Veteran's service\, by utilizing their services! Think Veterans First! \n\nVeteran-Owned Business\, Franchisees & Entrepreneurs deserve support and thoughtful consideration as the community makes buying decisions for services and/or products!   Veteran Business Owners will be displaying their services or products on table-top displays and engaging with the public in accordance with Social Distancing Guidelines.
X-ALT-DESC;FMTTYPE=text/html:&nbsp\;\n<p class="p3" style="box-sizing: border-box\; margin-bottom: 1.3em\; margin-top: 0px\; color: rgb(119\, 119\, 119)\; font-family: &quot\;Open Sans&quot\;\, sans-serif\; font-size: 16px\;"><strong><span class="s1" style="box-sizing: border-box\;">Welcome to the VetOHIOExpo\, being held on Thursday\, September 9\, 2021 from 3pm-7pm at The Wigwam Event Center! &nbsp\;</span></strong></p>\n\n<p class="p4" style="box-sizing: border-box\; margin-bottom: 1.3em\; margin-top: 0px\; color: rgb(119\, 119\, 119)\; font-family: &quot\;Open Sans&quot\;\, sans-serif\; font-size: 16px\;"><span class="s1" style="box-sizing: border-box\;">The exciting Expo is designed to showcase Veteran-Owned Business who provide services or products to Business Owners or to the Community.The VetOHIOExpo\, which is being launched by Regina Rembert\, Retired U.S. Army\, and the Founder of the non-profit\, Buy-Vet\, provides an amazing opportunity for the Attendees to express gratitude for our Veteran&rsquo\;s service\, by utilizing their services! Think Veterans First!&trade\;</span></p>\n\n<p class="p3" style="box-sizing: border-box\; margin-bottom: 1.3em\; margin-top: 0px\; color: rgb(119\, 119\, 119)\; font-family: &quot\;Open Sans&quot\;\, sans-serif\; font-size: 16px\;"><span class="s1" style="box-sizing: border-box\;">Veteran-Owned Business\, Franchisees &amp\; Entrepreneurs deserve support and thoughtful consideration as the community makes buying decisions for services and/or products! &nbsp\; Veteran Business Owners will be displaying their services or products on table-top displays and engaging with the public in accordance with Social Distancing Guidelines.&nbsp\;</span></p>\n
LOCATION:The Wigwam Event Center 10190 Blacklick Eastern Rd. NW Pickerington
UID:e.1451.14943
SEQUENCE:3
DTSTAMP:20260424T062334Z
URL:https://business.pickeringtonchamber.com/events/details/vetohio-expo-2021-hosted-by-buyvet-14943
END:VEVENT

END:VCALENDAR
