BEGIN:VCALENDAR
VERSION:2.0
PRODID:-//ChamberMaster//Event Calendar 2.0//EN
METHOD:PUBLISH
X-PUBLISHED-TTL:P3D
REFRESH-INTERVAL:P3D
CALSCALE:GREGORIAN
BEGIN:VEVENT
DTSTART:20200123T140000Z
DTEND:20200123T190000Z
X-MICROSOFT-CDO-ALLDAYEVENT:FALSE
SUMMARY:United Way Tax Prep
DESCRIPTION:United Way offers tax prep services between January and April. Please call 740-653-0643 to schedule an appointment. For more information: https://www.uwayfairfieldco.org\n\n\n\n\n\n\n\n \n\nUnited Way offers free tax prep services between January and April.  The staff and volunteers are IRS Certified. Please call 740-653-0643 to schedule an appointment.
X-ALT-DESC;FMTTYPE=text/html:<div class="amh-row row" id="idlw5ZC" style="box-sizing: border-box\; margin: 0px auto\; padding: 8px 0px\; border-top: 1px solid rgb(187\, 187\, 187)\; color: rgb(72\, 72\, 72)\; font-family: &quot\;Source Sans Pro&quot\;\, sans-serif\; font-size: 16px\;">\n<div class="amh-block amh-text col-md-12" data-block-type="text" id="idjLXfv" style="box-sizing: border-box\; position: relative\; min-height: 1px\; padding: 0px\; float: left\; width: 846px\; margin: 0px\;">\n<div class="amh-content" style="box-sizing: border-box\; margin-left: auto\; margin-right: auto\; position: relative\;">\n<p class="custom1" style="box-sizing: border-box\; margin: 1em 0px 0.5em\; color: rgb(52\, 72\, 94)\; font-size: 1.3em\;"><span style="box-sizing: border-box\;">United Way offers tax prep services between January and April. Please call 740-653-0643 to schedule an appointment. For more information: https://www.uwayfairfieldco.org</span></p>\n</div>\n</div>\n</div>\n\n<div class="amh-row row" id="idQ9R9H" style="box-sizing: border-box\; margin: 0px auto\; padding: 0px\; color: rgb(72\, 72\, 72)\; font-family: &quot\;Source Sans Pro&quot\;\, sans-serif\; font-size: 16px\;">\n<div class="amh-block amh-text col-md-12" data-block-type="text" id="idiga4D" style="box-sizing: border-box\; position: relative\; min-height: 1px\; padding: 0px\; float: left\; width: 846px\; margin: 0px\;">\n<div class="amh-content" style="box-sizing: border-box\; margin: 10px auto 30px\; position: relative\; border-width: 0px\; border-style: solid\;">\n<p style="box-sizing: border-box\; margin: 0px 0px 10px\; color: rgb(86\, 88\, 91)\;">&nbsp\;</p>\n\n<p style="box-sizing: border-box\; margin: 0px 0px 10px\; color: rgb(86\, 88\, 91)\;"><span style="box-sizing: border-box\;">United Way offers free tax prep services between January and April.&nbsp\; The staff and volunteers are IRS Certified. Please call 740-653-0643 to schedule an appointment.&nbsp\;</span></p>\n</div>\n</div>\n</div>\n
LOCATION:Pickerington Public Library Main 201 Opportunity Way Pickerington\, OH 43147
UID:e.1451.14010
SEQUENCE:3
DTSTAMP:20260425T140902Z
URL:https://business.pickeringtonchamber.com/events/details/united-way-tax-prep-14010
END:VEVENT

END:VCALENDAR
