BEGIN:VCALENDAR
VERSION:2.0
PRODID:-//ChamberMaster//Event Calendar 2.0//EN
METHOD:PUBLISH
X-PUBLISHED-TTL:P3D
REFRESH-INTERVAL:P3D
CALSCALE:GREGORIAN
BEGIN:VEVENT
DTSTART;VALUE=DATE:20220914
DTEND;VALUE=DATE:20220915
TRANSP:TRANSPARENT
X-MICROSOFT-CDO-ALLDAYEVENT:TRUE
SUMMARY:United Way Community Care Day
DESCRIPTION:Community Care Day serves as United Way's one-day volunteer event that will mobilize hundreds of people in our area to help those in need. Participants will assist local community service agencies\, United Way funded organizations\, schools\, playgrounds and clients homes in completing a variety of projects throughout Fairfield County.
X-ALT-DESC;FMTTYPE=text/html:Community Care Day serves as United Way&#39\;s one-day volunteer event that will mobilize hundreds of people in our area to help those in need. Participants will assist local community service agencies\, United Way funded organizations\, schools\, playgrounds and clients homes in completing a variety of projects throughout Fairfield County.
LOCATION:Ed Sands Building\, Fairfield County Fairgrounds 157 E Fair Ave\, Lancaster\, Ohio 43130
UID:e.1451.15783
SEQUENCE:3
DTSTAMP:20260423T092519Z
URL:https://business.pickeringtonchamber.com/events/details/united-way-community-care-day-15783
END:VEVENT

END:VCALENDAR
