BEGIN:VCALENDAR
VERSION:2.0
PRODID:-//ChamberMaster//Event Calendar 2.0//EN
METHOD:PUBLISH
X-PUBLISHED-TTL:P3D
REFRESH-INTERVAL:P3D
CALSCALE:GREGORIAN
BEGIN:VEVENT
DTSTART:20221112T133000Z
DTEND:20221112T190000Z
X-MICROSOFT-CDO-ALLDAYEVENT:FALSE
SUMMARY:United Way 5K/2M Walk
DESCRIPTION:United Way of Fairfield County is holding their 24th Annual 5K/2M walk. Join us November 12\, 8:30 am at the Fairfield County Fairgrounds Grandstand.
X-ALT-DESC;FMTTYPE=text/html:United Way of Fairfield County is holding their 24th Annual 5K/2M walk. Join us November 12\, 8:30 am at the Fairfield County Fairgrounds Grandstand.
LOCATION:Fairfield County Fairgrounds Grandstand.
UID:e.1451.15784
SEQUENCE:3
DTSTAMP:20260423T062022Z
URL:https://business.pickeringtonchamber.com/events/details/united-way-5k-2m-walk-11-12-2022-15784
END:VEVENT

END:VCALENDAR
