BEGIN:VCALENDAR
VERSION:2.0
PRODID:-//ChamberMaster//Event Calendar 2.0//EN
METHOD:PUBLISH
X-PUBLISHED-TTL:P3D
REFRESH-INTERVAL:P3D
CALSCALE:GREGORIAN
BEGIN:VEVENT
DTSTART:20190927T140000Z
DTEND:20190927T190000Z
X-MICROSOFT-CDO-ALLDAYEVENT:FALSE
SUMMARY:Understanding Your School's Local Report Card
DESCRIPTION:Understanding Your School's Local Report Card\n\nSeptember 27\, 2019\n\nAshland University Columbus\, Ohio Campus\n\n\n\nUnderstanding Ohio's Local Report card can be a daunting task for both new and returning school leaders. This session will provide insight into the Local Report Card components and how they impact the school's overall grade. Training will be led by Marianne Mottley\, Report Card Director for the Ohio Department of Education. Register here.
X-ALT-DESC;FMTTYPE=text/html:<span style="font-family:verdana\;"><strong>Understanding Your School&rsquo\;s Local Report Card</strong><br />\nSeptember 27\, 2019<br />\nAshland University Columbus\, Ohio Campus<br />\n<br />\nUnderstanding Ohio&rsquo\;s Local Report card can be a daunting task for both new and returning school leaders. This session will provide insight into the Local Report Card components and how they impact the school&rsquo\;s overall grade. Training will be led by Marianne Mottley\, Report Card Director for the Ohio Department of Education. Register <a href="https://docs.google.com/forms/d/e/1FAIpQLSfv0BToIEfnKJBP2vw3DgQCPlRXOPlEUQkS0dDrkz38fFMdBA/viewform">here</a>.&nbsp\;</span>
LOCATION:Ashland University Columbus Campus 1900 E Dublin Granville Rd. Columbus\, OH 43229
UID:e.1451.13610
SEQUENCE:3
DTSTAMP:20260425T191741Z
URL:https://business.pickeringtonchamber.com/events/details/understanding-your-school-s-local-report-card-13610
END:VEVENT

END:VCALENDAR
