BEGIN:VCALENDAR
VERSION:2.0
PRODID:-//ChamberMaster//Event Calendar 2.0//EN
METHOD:PUBLISH
X-PUBLISHED-TTL:P3D
REFRESH-INTERVAL:P3D
CALSCALE:GREGORIAN
BEGIN:VEVENT
DTSTART:20190614T130000Z
DTEND:20190614T210000Z
X-MICROSOFT-CDO-ALLDAYEVENT:FALSE
SUMMARY:Tween/Teen Drop-in Day
DESCRIPTION:Need to get out of the house for a bit this summer   we've got you covered!  Our Playstation 4 is open for drop-in play all day. While you're here you can try your hand at a craft\, check out the video and table top game selection to take home\, or grab something to read and participate in Summer Reading! No registration required.\n\n\n\nCrafts:\n\n\n\nJune 14   Buttonmaking\n\nJuly 19   Perler Bead Pixel Art
X-ALT-DESC;FMTTYPE=text/html:<br />\n<span style="text-transform:none\;"><span style="font-size:12.0pt\;">Need to get out of the house for a bit this summer &ndash\; we&rsquo\;ve got you covered!&nbsp\; Our Playstation 4 is open for drop-in play all day. While you&rsquo\;re here you can try your hand at a craft\, check out the video and table top game selection to take home\, or grab something to read and participate in Summer Reading! No registration required.</span></span><br />\n<br />\n<span style="text-transform:none\;"><span style="font-size:12.0pt\;">Crafts:<br />\n<br />\nJune 14 &ndash\; Buttonmaking<br />\nJuly 19 &ndash\; Perler Bead Pixel Art</span></span>
LOCATION:Pickerington Public Library 201 Opportunity Way Pickerington\, OH 43147
UID:e.1451.13344
SEQUENCE:3
DTSTAMP:20260426T000012Z
URL:https://business.pickeringtonchamber.com/events/details/tween-teen-drop-in-day-13344
END:VEVENT

END:VCALENDAR
