BEGIN:VCALENDAR
VERSION:2.0
PRODID:-//ChamberMaster//Event Calendar 2.0//EN
METHOD:PUBLISH
X-PUBLISHED-TTL:P3D
REFRESH-INTERVAL:P3D
CALSCALE:GREGORIAN
BEGIN:VEVENT
DTSTART:20210817T170000Z
DTEND:20210817T190000Z
X-MICROSOFT-CDO-ALLDAYEVENT:FALSE
SUMMARY:Treplus Communities Celebrates 2nd Anniversary!
DESCRIPTION:Redbud Commons is celebrating two years of active adult living in Pickerington!  We are holding the 2nd Anniversary Celebration  August 16-22\, 2021. Sunny 95 and The Treat Truck will be onsite on Tuesday\, August 17th from 1-3 PM!  Stop in for a tour and treat! \n\nAt Treplus Communities\, we are Redefining 55+ Living for active adullts by offering a luxurious lifestyle solution that has all of the conveniences of a condo or single-family home and robust\, socially-engaging opportunities with your neighbors supported by premium amenities including: \n\n\n	Spacious\, single-story\, no-step floorplans \n	Private entrances\, patios\, and porches\n	Attached\, oversized garages in every home\n	A pet-friendly commmunity with a dog park \n	Robust social calendar of events\n	24/7 Concierge services\n	Wellbeats  Virtual Fitness App\n	Community Garden\n	Walking Paths\n\n\nCelebrate with us! Stop in and take a tour today. Visit us in Pickerington at Redbud Commons located at 602 Redbud Road\, Pickerington\, Ohio 43147
X-ALT-DESC;FMTTYPE=text/html:&nbsp\;\n<p helvetica="" style="margin-top: 0px\; font-size: 14px\; line-height: 24px\; color: rgb(255\, 255\, 255)\; margin-bottom: 22px\; font-family: Verdana\, Arial\, "><span style="background-color:#000000\;">Redbud Commons is celebrating two years of active adult living in Pickerington!&nbsp\; We are holding the 2nd Anniversary Celebration&nbsp\; August 16-22\, 2021. Sunny 95 and The Treat Truck will be onsite on Tuesday\, August 17th from 1-3 PM!&nbsp\; Stop in for a tour and treat!&nbsp\;</span></p>\n\n<p helvetica="" style="margin-top: 0px\; font-size: 14px\; line-height: 24px\; color: rgb(255\, 255\, 255)\; margin-bottom: 22px\; font-family: Verdana\, Arial\, "><span style="background-color:#000000\;">At Treplus Communities\, we are Redefining 55+ Living for active adullts by offering a luxurious lifestyle solution that has all of the conveniences of a condo or single-family home and robust\, socially-engaging opportunities with your neighbors supported by premium&nbsp\;</span><a href="https://trepluscommunities.createsend1.com/t/j-l-fhiuuit-l-i/" style="text-decoration-line: none\; color: rgb(185\, 193\, 63) !important\;"><span style="background-color:#000000\;">amenities</span></a><span style="background-color:#000000\;">&nbsp\;including:</span><strong><span style="background-color:#000000\;">&nbsp\;</span></strong></p>\n\n<ul font-size:="" helvetica="" style="padding-left: 30px\; margin-top: 25px\; margin-bottom: 25px\; list-style-type: square\; color: rgb(0\, 0\, 0)\; font-family: Verdana\, Arial\, ">\n	<li style="margin-top: 0px\; font-size: 14px\; line-height: 18px\; color: rgb(255\, 255\, 255)\; margin-bottom: 15px\;"><strong><span style="background-color:#000000\;">Spacious\, single-story\, no-step floorplans&nbsp\;</span></strong></li>\n	<li style="margin-top: 0px\; font-size: 14px\; line-height: 18px\; color: rgb(255\, 255\, 255)\; margin-bottom: 15px\;"><strong><span style="background-color:#000000\;">Private entrances\, patios\, and porches</span></strong></li>\n	<li style="margin-top: 0px\; font-size: 14px\; line-height: 18px\; color: rgb(255\, 255\, 255)\; margin-bottom: 15px\;"><strong><span style="background-color:#000000\;">Attached\, oversized garages in every home</span></strong></li>\n	<li style="margin-top: 0px\; font-size: 14px\; line-height: 18px\; color: rgb(255\, 255\, 255)\; margin-bottom: 15px\;"><strong><span style="background-color:#000000\;">A pet-friendly commmunity with a dog park&nbsp\;</span></strong></li>\n	<li style="margin-top: 0px\; font-size: 14px\; line-height: 18px\; color: rgb(255\, 255\, 255)\; margin-bottom: 15px\;"><strong><span style="background-color:#000000\;">Robust social calendar of events</span></strong></li>\n	<li style="margin-top: 0px\; font-size: 14px\; line-height: 18px\; color: rgb(255\, 255\, 255)\; margin-bottom: 15px\;"><strong><span style="background-color:#000000\;">24/7 Concierge services</span></strong></li>\n	<li style="margin-top: 0px\; font-size: 14px\; line-height: 18px\; color: rgb(255\, 255\, 255)\; margin-bottom: 15px\;"><strong><span style="background-color:#000000\;">Wellbeats&trade\; Virtual Fitness App</span></strong></li>\n	<li style="margin-top: 0px\; font-size: 14px\; line-height: 18px\; color: rgb(255\, 255\, 255)\; margin-bottom: 15px\;"><strong><span style="background-color:#000000\;">Community Garden</span></strong></li>\n	<li style="margin-top: 0px\; font-size: 14px\; line-height: 18px\; color: rgb(255\, 255\, 255)\; margin-bottom: 15px\;"><strong><span style="background-color:#000000\;">Walking Paths</span></strong></li>\n</ul>\n\n<p helvetica="" style="margin-top: 0px\; font-size: 14px\; line-height: 24px\; color: rgb(255\, 255\, 255)\; margin-bottom: 22px\; font-family: Verdana\, Arial\, "><span style="background-color:#000000\;">Celebrate with us! Stop in and take a tour today. Visit us in Pickerington at&nbsp\;</span><a href="https://trepluscommunities.createsend1.com/t/j-l-fhiuuit-l-d/" style="text-decoration-line: none\; color: rgb(185\, 193\, 63) !important\;"><span style="background-color:#000000\;">Redbud Commons</span></a><span style="background-color:#000000\;">&nbsp\;located at 602 Redbud Road\, Pickerington\, Ohio 43147</span></p>\n
LOCATION:Redbud Commons 602 Redbud Rd. Pickerington
UID:e.1451.15407
SEQUENCE:3
DTSTAMP:20260424T062027Z
URL:https://business.pickeringtonchamber.com/events/details/treplus-communities-celebrates-2nd-anniversary-15407
END:VEVENT

END:VCALENDAR
