BEGIN:VCALENDAR
VERSION:2.0
PRODID:-//ChamberMaster//Event Calendar 2.0//EN
METHOD:PUBLISH
X-PUBLISHED-TTL:P3D
REFRESH-INTERVAL:P3D
CALSCALE:GREGORIAN
BEGIN:VEVENT
DTSTART:20210615T140000Z
DTEND:20210615T160000Z
X-MICROSOFT-CDO-ALLDAYEVENT:FALSE
SUMMARY:Trenching Safety Stand Down
DESCRIPTION:Trench collapses\, or cave-ins\, are a significant risk to worker safety. Failure to use sloping\, shoring\, or shielding are an increasing cause of fatalities in Ohio and across the country. Attend this stand-down event and learn how to identify trenching and excavation risk factors and ways to protect workers.
X-ALT-DESC;FMTTYPE=text/html:Trench collapses\, or cave-ins\, are a significant risk to worker safety. Failure to use sloping\, shoring\, or shielding are an increasing cause of fatalities in Ohio and across the country. Attend this stand-down event and learn how to identify trenching and excavation risk factors and ways to protect workers.
LOCATION:Webinar
UID:e.1451.15324
SEQUENCE:3
DTSTAMP:20260424T094055Z
URL:https://business.pickeringtonchamber.com/events/details/trenching-safety-stand-down-15324
END:VEVENT

END:VCALENDAR
