BEGIN:VCALENDAR
VERSION:2.0
PRODID:-//ChamberMaster//Event Calendar 2.0//EN
METHOD:PUBLISH
X-PUBLISHED-TTL:P3D
REFRESH-INTERVAL:P3D
CALSCALE:GREGORIAN
BEGIN:VEVENT
DTSTART:20191031T173000Z
DTEND:20191031T183000Z
X-MICROSOFT-CDO-ALLDAYEVENT:FALSE
SUMMARY:Tots Trick or Treat
DESCRIPTION:Children 2-5 years old accompained by an adult may wear their favorite costumes as they stroll through the decorated halls and office of City Hall while receiving a few goodies from the disguised employees.  Take photos with the 12' Frankenstein or the friendly withches and ghosts along the way. \n\n\n\nBe sure to stop outside and see vioitors from the Police Department\, Viloet Township Fire Department and the Fairfield County Sheriff's Department.
X-ALT-DESC;FMTTYPE=text/html:Children 2-5 years old accompained by an adult may wear their favorite costumes as they stroll through the decorated halls and office of City Hall while receiving a few goodies from the disguised employees.&nbsp\; Take photos with the 12&#39\; Frankenstein or the friendly withches and ghosts along the way.&nbsp\;<br />\n<br />\nBe sure to stop outside and see vioitors from the Police Department\, Viloet Township Fire Department and the Fairfield County Sheriff&#39\;s Department.
LOCATION:City Hall 100 Lockville Road Pickerington\, OH 43147
UID:e.1451.12938
SEQUENCE:3
DTSTAMP:20260425T190756Z
URL:https://business.pickeringtonchamber.com/events/details/tots-trick-or-treat-12938
END:VEVENT

END:VCALENDAR
