BEGIN:VCALENDAR
VERSION:2.0
PRODID:-//ChamberMaster//Event Calendar 2.0//EN
METHOD:PUBLISH
X-PUBLISHED-TTL:P3D
REFRESH-INTERVAL:P3D
CALSCALE:GREGORIAN
BEGIN:VEVENT
DTSTART;VALUE=DATE:20200125
DTEND;VALUE=DATE:20200126
TRANSP:TRANSPARENT
X-MICROSOFT-CDO-ALLDAYEVENT:TRUE
SUMMARY:TMobile Open House
DESCRIPTION:Join us 1/25 for our open house! T-Mobile will be holding an open house with a chance to enter and win a $500 dollar T-Mobile shopping spree! \n\n\n\nT-Mobile 7909 Refugee Rd Pickerington Ohio 43147
X-ALT-DESC;FMTTYPE=text/html:Join us 1/25 for our open house! T-Mobile will be holding an open house with a chance to enter and win a $500 dollar T-Mobile shopping spree!&nbsp\;<br />\n<br />\nT-Mobile 7909 Refugee Rd Pickerington Ohio 43147
LOCATION:7909 REFUGEE RD PICKERINGTON OHIO 43147
UID:e.1451.14028
SEQUENCE:3
DTSTAMP:20260425T123034Z
URL:https://business.pickeringtonchamber.com/events/details/tmobile-open-house-14028
END:VEVENT

END:VCALENDAR
