BEGIN:VCALENDAR
VERSION:2.0
PRODID:-//ChamberMaster//Event Calendar 2.0//EN
METHOD:PUBLISH
X-PUBLISHED-TTL:P3D
REFRESH-INTERVAL:P3D
CALSCALE:GREGORIAN
BEGIN:VEVENT
DTSTART:20190329T121500Z
DTEND:20190330T010000Z
X-MICROSOFT-CDO-ALLDAYEVENT:FALSE
SUMMARY:Volunteers of America Thrift Store Grand Opening
DESCRIPTION:Join us on Friday\, March 29\, 2019 for the opening of our new thrift store and donation center. \n\n\n	8:15 a.m. Ribbon Cutting Ceremony \n	9 a.m. Doors Open \n	$25 Gift Card Giveaways Hourly \n	Amazing Sales
X-ALT-DESC;FMTTYPE=text/html:<p>Join us on Friday\, March 29\, 2019 for the opening of our new thrift store and donation center.&nbsp\;</p>\n\n<ul>\n	<li>8:15 a.m. Ribbon Cutting Ceremony&nbsp\;</li>\n	<li>9 a.m. Doors Open&nbsp\;</li>\n	<li>$25 Gift Card Giveaways Hourly&nbsp\;</li>\n	<li>Amazing Sales&nbsp\;</li>\n</ul>\n
LOCATION:909 Old Diley Road Pickerington\, Ohio 43147 (By Kroger on Hill Road\, in Windmiller Square)
UID:e.1451.12803
SEQUENCE:3
DTSTAMP:20260426T040838Z
URL:https://business.pickeringtonchamber.com/events/details/thrift-store-grand-opening-12803
END:VEVENT

END:VCALENDAR
