BEGIN:VCALENDAR
VERSION:2.0
PRODID:-//ChamberMaster//Event Calendar 2.0//EN
METHOD:PUBLISH
X-PUBLISHED-TTL:P3D
REFRESH-INTERVAL:P3D
CALSCALE:GREGORIAN
BEGIN:VEVENT
DTSTART:20210814T143000Z
DTEND:20210814T180000Z
X-MICROSOFT-CDO-ALLDAYEVENT:FALSE
SUMMARY:Summer Reading Finale with the Pickerington Public Library
DESCRIPTION:Celebrate the community's reading achievements at this family friendly event!\n\n\n\n\n\n\n\n \n\nSchedule:\n\n11-11:45 a.m.\n\nJim Gill's Sing-a-thon of Celebrated Songs Concert\n\n11:45 a.m. - 2 p.m.\n\nBring the Farm to You\n\nTouch-a-Truck with local agencies\n\nDunk Tank\n\nFood Trucks\n\nKids' Crafts & Activities\n\nLibrary Card Signup\n\nRepresentatives from Community Agencies
X-ALT-DESC;FMTTYPE=text/html:&nbsp\;\n<div class="amh-row row" id="idlw5ZC" style="box-sizing: border-box\; margin: 0px auto\; padding: 8px 0px\; border-top: 1px solid rgb(187\, 187\, 187)\; color: rgb(72\, 72\, 72)\; font-family: &quot\;Source Sans Pro&quot\;\, sans-serif\; font-size: 16px\;">\n<div class="amh-block amh-text col-md-12" data-block-type="text" id="idjLXfv" style="box-sizing: border-box\; position: relative\; min-height: 1px\; padding: 0px\; float: left\; width: 846px\; margin: 0px\;">\n<div class="amh-content" style="box-sizing: border-box\; margin-left: auto\; margin-right: auto\; position: relative\;">\n<p class="custom1" style="box-sizing: border-box\; margin: 1em 0px 0.5em\; color: rgb(52\, 72\, 94)\; font-size: 1.3em\;"><span style="box-sizing: border-box\;">Celebrate the community&#39\;s reading achievements at this family friendly event!</span></p>\n</div>\n</div>\n</div>\n\n<div class="amh-row row" id="idQ9R9H" style="box-sizing: border-box\; margin: 0px auto\; padding: 0px\; color: rgb(72\, 72\, 72)\; font-family: &quot\;Source Sans Pro&quot\;\, sans-serif\; font-size: 16px\;">\n<div class="amh-block amh-text col-md-12" data-block-type="text" id="idiga4D" style="box-sizing: border-box\; position: relative\; min-height: 1px\; padding: 0px\; float: left\; width: 846px\; margin: 0px\;">\n<div class="amh-content" style="box-sizing: border-box\; margin: 10px auto\; position: relative\; border-width: 0px\; border-style: solid\;">\n<p style="box-sizing: border-box\; margin: 0px 0px 10px\; color: rgb(86\, 88\, 91)\;">&nbsp\;</p>\n\n<p style="box-sizing: border-box\; margin: 0px 0px 10px\; color: rgb(86\, 88\, 91)\;"><span style="box-sizing: border-box\;">Schedule:</span></p>\n\n<p style="box-sizing: border-box\; margin: 0px 0px 10px\; color: rgb(86\, 88\, 91)\;"><span style="box-sizing: border-box\;">11-11:45 a.m.</span></p>\n\n<p style="box-sizing: border-box\; margin: 0px 0px 10px\; color: rgb(86\, 88\, 91)\;"><span style="box-sizing: border-box\;"><a href="https://www.jimgill.com/" style="box-sizing: border-box\; background-color: transparent\; color: rgb(0\, 178\, 90)\; text-decoration-line: none\; transition: background 200ms linear 0s\, color 200ms linear 0s\, border 200ms linear 0s\;">Jim Gill</a>&#39\;s Sing-a-thon of Celebrated Songs Concert</span></p>\n\n<p style="box-sizing: border-box\; margin: 0px 0px 10px\; color: rgb(86\, 88\, 91)\;"><span style="box-sizing: border-box\;">11:45 a.m. - 2 p.m.</span></p>\n\n<p style="box-sizing: border-box\; margin: 0px 0px 10px\; color: rgb(86\, 88\, 91)\;"><span style="box-sizing: border-box\;"><a href="http://www.bringthefarmtoyou.com/farm-animal-events/" style="box-sizing: border-box\; background-color: transparent\; color: rgb(0\, 178\, 90)\; text-decoration-line: none\; transition: background 200ms linear 0s\, color 200ms linear 0s\, border 200ms linear 0s\;">Bring the Farm to You</a></span></p>\n\n<p style="box-sizing: border-box\; margin: 0px 0px 10px\; color: rgb(86\, 88\, 91)\;"><span style="box-sizing: border-box\;">Touch-a-Truck with local agencies</span></p>\n\n<p style="box-sizing: border-box\; margin: 0px 0px 10px\; color: rgb(86\, 88\, 91)\;"><span style="box-sizing: border-box\;">Dunk Tank</span></p>\n\n<p style="box-sizing: border-box\; margin: 0px 0px 10px\; color: rgb(86\, 88\, 91)\;"><span style="box-sizing: border-box\;">Food Trucks</span></p>\n\n<p style="box-sizing: border-box\; margin: 0px 0px 10px\; color: rgb(86\, 88\, 91)\;"><span style="box-sizing: border-box\;">Kids&#39\; Crafts &amp\; Activities</span></p>\n\n<p style="box-sizing: border-box\; margin: 0px 0px 10px\; color: rgb(86\, 88\, 91)\;"><span style="box-sizing: border-box\;">Library Card Signup</span></p>\n\n<p style="box-sizing: border-box\; margin: 0px 0px 10px\; color: rgb(86\, 88\, 91)\;"><span style="box-sizing: border-box\;">Representatives from Community Agencies</span></p>\n</div>\n</div>\n</div>\n
LOCATION:Wigwam Event Center 10190 Blacklick Eastern Rd. Pickerington
UID:e.1451.15351
SEQUENCE:3
DTSTAMP:20260424T062120Z
URL:https://business.pickeringtonchamber.com/events/details/summer-reading-finale-with-the-pickerington-public-library-15351
END:VEVENT

END:VCALENDAR
