BEGIN:VCALENDAR
VERSION:2.0
PRODID:-//ChamberMaster//Event Calendar 2.0//EN
METHOD:PUBLISH
X-PUBLISHED-TTL:P3D
REFRESH-INTERVAL:P3D
CALSCALE:GREGORIAN
BEGIN:VEVENT
DTSTART:20190804T230000Z
DTEND:20190805T003000Z
X-MICROSOFT-CDO-ALLDAYEVENT:FALSE
SUMMARY:Summer Concert Series - Mowtown Sounds of Touch
DESCRIPTION:Bring a blanket and chairs to enjoy the music of Motown Sounds of Touch in the park with family and friends.
X-ALT-DESC;FMTTYPE=text/html:Bring a blanket and chairs to enjoy the music of Motown Sounds of Touch in the park with family and friends.
LOCATION:Sycamore Creek Park Amphitheater
UID:e.1451.12932
SEQUENCE:3
DTSTAMP:20260425T205132Z
URL:https://business.pickeringtonchamber.com/events/details/summer-concert-series-mowtown-sounds-of-touch-12932
END:VEVENT

END:VCALENDAR
