BEGIN:VCALENDAR
VERSION:2.0
PRODID:-//ChamberMaster//Event Calendar 2.0//EN
METHOD:PUBLISH
X-PUBLISHED-TTL:P3D
REFRESH-INTERVAL:P3D
CALSCALE:GREGORIAN
BEGIN:VEVENT
DTSTART:20190602T230000Z
DTEND:20190603T003000Z
X-MICROSOFT-CDO-ALLDAYEVENT:FALSE
SUMMARY:Summer Concert Series - Chris Logsdon
DESCRIPTION:Bring a blanket and chairs to enjoy the music of Chris Logsdon in the park with family and friends.
X-ALT-DESC;FMTTYPE=text/html:Bring a blanket and chairs to enjoy the music of Chris Logsdon in the park with family and friends.
LOCATION:Sycamore Creek Park Amphitheater
UID:e.1451.12930
SEQUENCE:3
DTSTAMP:20260426T000313Z
URL:https://business.pickeringtonchamber.com/events/details/summer-concert-series-chris-logsdon-06-02-2019-12930
END:VEVENT

END:VCALENDAR
