BEGIN:VCALENDAR
VERSION:2.0
PRODID:-//ChamberMaster//Event Calendar 2.0//EN
METHOD:PUBLISH
X-PUBLISHED-TTL:P3D
REFRESH-INTERVAL:P3D
CALSCALE:GREGORIAN
BEGIN:VEVENT
DTSTART:20190707T230000Z
DTEND:20190708T003000Z
X-MICROSOFT-CDO-ALLDAYEVENT:FALSE
SUMMARY:Summer Concert Series - British Invasion
DESCRIPTION:Bring a blanket and chairs to enjoy the music of British Invasion in the park with family and friends.
X-ALT-DESC;FMTTYPE=text/html:Bring a blanket and chairs to enjoy the music of British Invasion in the park with family and friends.
LOCATION:Sycamore Creek Park Amphitheater
UID:e.1451.12931
SEQUENCE:3
DTSTAMP:20260425T222507Z
URL:https://business.pickeringtonchamber.com/events/details/summer-concert-series-british-invasion-12931
END:VEVENT

END:VCALENDAR
