BEGIN:VCALENDAR
VERSION:2.0
PRODID:-//ChamberMaster//Event Calendar 2.0//EN
METHOD:PUBLISH
X-PUBLISHED-TTL:P3D
REFRESH-INTERVAL:P3D
CALSCALE:GREGORIAN
BEGIN:VEVENT
DTSTART:20210518T113000Z
DTEND:20210518T153000Z
X-MICROSOFT-CDO-ALLDAYEVENT:FALSE
SUMMARY:Strategic HR Inc. - Supervisor Training 201
DESCRIPTION:Coaching & Developing Your Employees to Achieve Success\n\nDo you understand the difference between performance management and coaching? Why is performance management and coaching important in the workplace? This program will take an in-depth look at the skills and knowledge to be more effective with your team\, as well as serve your company's best interests.\n\n\n\n \n\n\n	Performance management vs coaching.\n	How to communicate to get optimum results.\n	Effective coaching techniques.\n	Giving tough feedback.\n	How to document performance management appropriately.
X-ALT-DESC;FMTTYPE=text/html:<div style="text-align: center\;">\n<h2 style="box-sizing: border-box\; margin: 0px 0px 10px\; padding: 0px 0px 15px\; border: 0px rgba(189\, 191\, 193\, 0.4)\; font-variant-numeric: inherit\; font-variant-east-asian: inherit\; font-weight: bold\; font-stretch: inherit\; font-size: 24px\; line-height: 1.1em\; vertical-align: baseline\; text-align: center\; font-family: &quot\;Open Sans&quot\;\, sans-serif !important\;"><br />\nCoaching &amp\; Developing Your Employees to Achieve Success</h2>\n\n<p style="box-sizing: border-box\; margin: 0.85em 0px 1.2em\; padding: 0px\; border: 0px rgba(189\, 191\, 193\, 0.4)\; font-variant-numeric: inherit\; font-variant-east-asian: inherit\; font-stretch: inherit\; font-size: 16px\; line-height: inherit\; font-family: &quot\;open sans&quot\;\, HelveticaNeue\, &quot\;Helvetica Neue&quot\;\, Helvetica-Neue\, Helvetica\, Arial\, sans-serif\; vertical-align: baseline\; color: rgb(34\, 34\, 34)\; text-align: left\;">Do you understand the difference between performance management and coaching? Why is performance management and coaching important in the workplace? This program will take an in-depth look at the skills and knowledge to be more effective with your team\, as well as serve your company&rsquo\;s best interests.<br />\n<br />\n&nbsp\;</p>\n\n<ul style="box-sizing: border-box\; margin: 0px 0px 20px 7px\; padding-right: 0px\; padding-left: 0px\; border: 0px rgba(189\, 191\, 193\, 0.4)\; font-variant-numeric: inherit\; font-variant-east-asian: inherit\; font-stretch: inherit\; font-size: 16px\; line-height: inherit\; font-family: &quot\;open sans&quot\;\, HelveticaNeue\, &quot\;Helvetica Neue&quot\;\, Helvetica-Neue\, Helvetica\, Arial\, sans-serif\; vertical-align: baseline\; list-style-position: outside\; list-style-image: initial\; color: rgb(34\, 34\, 34)\;">\n	<li style="box-sizing: border-box\; margin: 0px 0px 0px 1em\; padding: 3px 0px\; border: 0px rgba(189\, 191\, 193\, 0.4)\; font: inherit\; vertical-align: baseline\; text-align: left\;">Performance management vs coaching.</li>\n	<li style="box-sizing: border-box\; margin: 0px 0px 0px 1em\; padding: 3px 0px\; border: 0px rgba(189\, 191\, 193\, 0.4)\; font: inherit\; vertical-align: baseline\; text-align: left\;">How to communicate to get optimum results.</li>\n	<li style="box-sizing: border-box\; margin: 0px 0px 0px 1em\; padding: 3px 0px\; border: 0px rgba(189\, 191\, 193\, 0.4)\; font: inherit\; vertical-align: baseline\; text-align: left\;">Effective coaching techniques.</li>\n	<li style="box-sizing: border-box\; margin: 0px 0px 0px 1em\; padding: 3px 0px\; border: 0px rgba(189\, 191\, 193\, 0.4)\; font: inherit\; vertical-align: baseline\; text-align: left\;">Giving tough feedback.</li>\n	<li style="box-sizing: border-box\; margin: 0px 0px 0px 1em\; padding: 3px 0px\; border: 0px rgba(189\, 191\, 193\, 0.4)\; font: inherit\; vertical-align: baseline\; text-align: left\;">How to document performance management appropriately.</li>\n</ul>\n</div>\n
LOCATION:Strategic HR Inc. 8160 Corporate Park Drive\, Suite #200 Cincinnati\, OH *This training is currently scheduled to be held in-person\, but is subject to change to a virtual environment depending upon the state of the COVID-19 pandemic.
UID:e.1451.15044
SEQUENCE:3
DTSTAMP:20260424T111855Z
URL:https://business.pickeringtonchamber.com/events/details/strategic-hr-inc-supervisor-training-201-15044
END:VEVENT

END:VCALENDAR
