BEGIN:VCALENDAR
VERSION:2.0
PRODID:-//ChamberMaster//Event Calendar 2.0//EN
METHOD:PUBLISH
X-PUBLISHED-TTL:P3D
REFRESH-INTERVAL:P3D
CALSCALE:GREGORIAN
BEGIN:VEVENT
DTSTART:20210420T113000Z
DTEND:20210420T153000Z
X-MICROSOFT-CDO-ALLDAYEVENT:FALSE
SUMMARY:Strategic HR Inc. - Supervisor Training 101
DESCRIPTION:Things First Time Managers Should Know\nDo you have managers/supervisors new to their role\, or that would benefit from supervisory basics training? You have promoted them\, but do they know how to "manage" people? This program will provide your supervisor/manager with valuable skills and knowledge to be successful\, as well as serve your company's best interest.\n\n\n\nTopics covered:\n\n\n	Successful Transition From Peer to Manager\n	Management and Ethics\n	Legal Compliance Overview\n	Performance Management and Coaching
X-ALT-DESC;FMTTYPE=text/html:<div style="text-align: center\;"><span style="font-size:18px\;"><strong>Things First Time Managers Should Know</strong></span></div>\n<span style="color: rgb(34\, 34\, 34)\; font-family: &quot\;open sans&quot\;\, HelveticaNeue\, &quot\;Helvetica Neue&quot\;\, Helvetica-Neue\, Helvetica\, Arial\, sans-serif\; font-size: 16px\;">Do you have managers/supervisors new to their role\, or that would benefit from supervisory basics training? You have promoted them\, but do they know how to &ldquo\;manage&rdquo\; people? This program will provide your supervisor/manager with valuable skills and knowledge to be successful\, as well as serve your company&rsquo\;s best interest.<br />\n<br />\nTopics covered:</span>\n\n<ul style="box-sizing: border-box\; margin: 0px 0px 20px 7px\; padding-right: 0px\; padding-left: 0px\; border: 0px rgba(189\, 191\, 193\, 0.4)\; font-variant-numeric: inherit\; font-variant-east-asian: inherit\; font-stretch: inherit\; font-size: 16px\; line-height: inherit\; font-family: &quot\;open sans&quot\;\, HelveticaNeue\, &quot\;Helvetica Neue&quot\;\, Helvetica-Neue\, Helvetica\, Arial\, sans-serif\; vertical-align: baseline\; list-style-position: outside\; list-style-image: initial\; color: rgb(34\, 34\, 34)\;">\n	<li style="box-sizing: border-box\; margin: 0px 0px 0px 1em\; padding: 3px 0px\; border: 0px rgba(189\, 191\, 193\, 0.4)\; font: inherit\; vertical-align: baseline\;">Successful Transition From Peer to Manager</li>\n	<li style="box-sizing: border-box\; margin: 0px 0px 0px 1em\; padding: 3px 0px\; border: 0px rgba(189\, 191\, 193\, 0.4)\; font: inherit\; vertical-align: baseline\;">Management and Ethics</li>\n	<li style="box-sizing: border-box\; margin: 0px 0px 0px 1em\; padding: 3px 0px\; border: 0px rgba(189\, 191\, 193\, 0.4)\; font: inherit\; vertical-align: baseline\;">Legal Compliance Overview</li>\n	<li style="box-sizing: border-box\; margin: 0px 0px 0px 1em\; padding: 3px 0px\; border: 0px rgba(189\, 191\, 193\, 0.4)\; font: inherit\; vertical-align: baseline\;">Performance Management and Coaching</li>\n</ul>\n<br />\n&nbsp\;
LOCATION:Strategic HR Inc. 8160 Corporate Park Drive\, Suite #200 Cincinnati\, OH *This training is currently scheduled to be held in-person\, but is subject to change to a virtual environment depending upon the state of the COVID-19 pandemic.
UID:e.1451.15043
SEQUENCE:3
DTSTAMP:20260424T124304Z
URL:https://business.pickeringtonchamber.com/events/details/strategic-hr-inc-supervisor-training-101-15043
END:VEVENT

END:VCALENDAR
