BEGIN:VCALENDAR
VERSION:2.0
PRODID:-//ChamberMaster//Event Calendar 2.0//EN
METHOD:PUBLISH
X-PUBLISHED-TTL:P3D
REFRESH-INTERVAL:P3D
CALSCALE:GREGORIAN
BEGIN:VEVENT
DTSTART:20210817T170000Z
DTEND:20210817T180000Z
X-MICROSOFT-CDO-ALLDAYEVENT:FALSE
SUMMARY:strategic HR inc. Presents - "Why Do I need HR?"
DESCRIPTION:Does My Small- to Medium-Sized Organization Need a Dedicated HR Professional?\n\n			\n\n			Who is currently handling your human resources function in your organization? Do they understand the many layers\, regulations\, and guidelines that make up the HR function\, and how mistakes may impact your organization? \n\n			\n\n			During this session we will discuss:\n			\n				The key components of human resources and why you need them\n				Some triggers or signs that you need dedicated HR\n				Possible solutions to help you manage your HR
X-ALT-DESC;FMTTYPE=text/html:<table align="center" border="0" cellpadding="0" cellspacing="0" style="width:640px\;background:white\;" width="640">\n	<tbody>\n		<tr>\n			<td style="padding:7.5pt 37.5pt 0in 37.5pt\;"><strong><span style="color:black\;"><span style="font-family:arial\,sans-serif\;"><span style="font-size:12.0pt\;">Does My Small- to Medium-Sized Organization Need a Dedicated HR Professional?</span></span></span></strong><br />\n			<br />\n			<span style="color:black\;"><span style="font-family:arial\,sans-serif\;"><span style="font-size:12.0pt\;">Who is currently handling your human resources function in your organization? Do they understand the many layers\, regulations\, and guidelines that make up the HR function\, and how mistakes may impact your organization?&nbsp\;<br />\n			<br />\n			During this session we will discuss:</span></span></span>\n			<ul>\n				<li style="line-height:12.0pt\;"><span style="color:black\;"><span style="font-family:arial\,sans-serif\;"><span style="font-size:12.0pt\;">The key components of human resources and why you need them</span></span></span></li>\n				<li style="line-height:12.0pt\;"><span style="color:black\;"><span style="font-family:arial\,sans-serif\;"><span style="font-size:12.0pt\;">Some triggers or signs that you need dedicated HR</span></span></span></li>\n				<li style="line-height:12.0pt\;"><span style="color:black\;"><span style="font-family:arial\,sans-serif\;"><span style="font-size:12.0pt\;">Possible solutions to help you manage your HR</span></span></span></li>\n			</ul>\n			</td>\n		</tr>\n	</tbody>\n</table>\n\n<div style="clear:both\;">&nbsp\;</div>\n
LOCATION:Virtual Event
UID:e.1451.15399
SEQUENCE:3
DTSTAMP:20260424T062248Z
URL:https://business.pickeringtonchamber.com/events/details/strategic-hr-inc-presents-why-do-i-need-hr-15399
END:VEVENT

END:VCALENDAR
