BEGIN:VCALENDAR
VERSION:2.0
PRODID:-//ChamberMaster//Event Calendar 2.0//EN
METHOD:PUBLISH
X-PUBLISHED-TTL:P3D
REFRESH-INTERVAL:P3D
CALSCALE:GREGORIAN
BEGIN:VEVENT
DTSTART:20210609T130000Z
DTEND:20210609T140000Z
X-MICROSOFT-CDO-ALLDAYEVENT:FALSE
SUMMARY:strategic HR inc. Presents - The Latest COVID-19 Workplace Challenges
DESCRIPTION:Join strategic HR inc. and Graydon Law for an update on: \n\nThe Latest COVID-19 Workplace Challenges\n\n \n\nJune 9\, 2021\n\n9:00am - 10:00am\n\n \n\nMask or no masks\, protocols or no protocols\, vaccinated or non-vaccinated.\n\n\n\nWhile there is a sense of relief as we finally start to emerge from the COVID-19 pandemic\, there are still a myriad of questions that remain. You may find yourself asking questions like:\n\n\n\n"How are we supposed to handle masking requirements?"\n\n"What if we have employees who can't or won't be vaccinated?"\n\n"What if we have an employee who refuses to return to work?"\n\n\n\nTune in as strategic HR's Terry Salo\, Senior HR Consultant\, and Graydon Law's Lee Geiger\, Attorney\, pair up to provide answers to your pressing COVID-19 related questions. \n\n \n\nJoin us for a Q&A session to unravel the latest COVID-19 workplace challenges as we look to make sense of Federal\, State\, and CDC guidance and requirements.\n\n\n\nPlease send your questions in advance to melissa@strategichrinc.com
X-ALT-DESC;FMTTYPE=text/html:<br />\n<strong><span style="font-family:arial\,sans-serif\;"><span style="font-size:12.0pt\;">Join strategic HR inc. and Graydon Law for an update on: </span></span></strong><br />\n<strong><span style="font-family:arial\,sans-serif\;"><span style="font-size:12.0pt\;">The Latest COVID-19 Workplace Challenges</span></span></strong><br />\n&nbsp\;<br />\n<strong><span style="font-family:arial\,sans-serif\;"><span style="font-size:12.0pt\;">June 9\, 2021</span></span></strong><br />\n<strong><span style="font-family:arial\,sans-serif\;"><span style="font-size:12.0pt\;">9:00am - 10:00am</span></span></strong><br />\n&nbsp\;<br />\n<em><span style="font-family:arial\,sans-serif\;"><span style="font-size:10.5pt\;">Mask or no masks\, protocols or no protocols\, vaccinated or non-vaccinated.</span></span></em><br />\n<br />\n<span style="font-family:arial\,sans-serif\;"><span style="font-size:10.5pt\;">While there is a sense of relief as we finally start to emerge from the COVID-19 pandemic\, there are still a myriad of questions that remain. You may find yourself asking questions like:</span></span><br />\n<br />\n<span style="font-family:arial\,sans-serif\;"><span style="font-size:10.5pt\;">&ldquo\;How are we supposed to handle masking requirements?&rdquo\;</span></span><br />\n<span style="font-family:arial\,sans-serif\;"><span style="font-size:10.5pt\;">&ldquo\;What if we have employees who can&rsquo\;t or won&rsquo\;t be vaccinated?&rdquo\;</span></span><br />\n<span style="font-family:arial\,sans-serif\;"><span style="font-size:10.5pt\;">&ldquo\;What if we have an employee who refuses to return to work?&rdquo\;</span></span><br />\n<br />\n<span style="font-family:arial\,sans-serif\;"><span style="font-size:10.5pt\;">Tune in as strategic HR&rsquo\;s Terry Salo\, Senior HR Consultant\, and Graydon Law&rsquo\;s Lee Geiger\, Attorney\, pair up to provide answers to your pressing COVID-19 related questions.&nbsp\;</span></span><br />\n&nbsp\;<br />\n<span style="font-family:arial\,sans-serif\;"><span style="font-size:10.5pt\;">Join us for a Q&amp\;A session to unravel the latest COVID-19 workplace challenges as we look to make sense of Federal\, State\, and CDC guidance and requirements.</span></span><br />\n<br />\n<strong><span style="font-family:arial\,sans-serif\;"><span style="font-size:10.5pt\;">Please send your questions in advance to <a href="mailto:melissa@strategichrinc.com"><span style="font-weight:normal\;">melissa@strategichrinc.com</span></a></span></span></strong>
LOCATION:Virtual
UID:e.1451.15322
SEQUENCE:3
DTSTAMP:20260424T094421Z
URL:https://business.pickeringtonchamber.com/events/details/strategic-hr-inc-presents-the-latest-covid-19-workplace-challenges-15322
END:VEVENT

END:VCALENDAR
