BEGIN:VCALENDAR
VERSION:2.0
PRODID:-//ChamberMaster//Event Calendar 2.0//EN
METHOD:PUBLISH
X-PUBLISHED-TTL:P3D
REFRESH-INTERVAL:P3D
CALSCALE:GREGORIAN
BEGIN:VEVENT
DTSTART:20210615T113000Z
DTEND:20210615T153000Z
X-MICROSOFT-CDO-ALLDAYEVENT:FALSE
SUMMARY:Strategic HR Inc. - Advanced Supervisor Training
DESCRIPTION:Take your management skills to the next level as we take a deeper dive into some key areas to help you and your team be successful. We'll cover:\n\n\n	Employee engagement: How do I get my employees to care about the work we do?\n	Managing teams in-person and remotely\n	How to be an effective team leader\n	Managing a multi-generational workforce\n	How to effectively communicate with employees to achieve optimal results
X-ALT-DESC;FMTTYPE=text/html:<div style="text-align: center\;">&nbsp\;</div>\n\n<p color:="" helvetica="" open="" style="box-sizing: border-box\; margin: 0.85em 0px 1.2em\; padding: 0px\; border: 0px rgba(189\, 191\, 193\, 0.4)\; font-variant-numeric: inherit\; font-variant-east-asian: inherit\; font-stretch: inherit\; font-size: 16px\; line-height: inherit\; font-family: " vertical-align:="">Take your management skills to the next level as we take a deeper dive into some key areas to help you and your team be successful. We&rsquo\;ll cover:</p>\n\n<ul color:="" helvetica="" list-style-image:="" list-style-position:="" open="" style="box-sizing: border-box\; margin: 0px 0px 20px 7px\; padding-right: 0px\; padding-left: 0px\; border: 0px rgba(189\, 191\, 193\, 0.4)\; font-variant-numeric: inherit\; font-variant-east-asian: inherit\; font-stretch: inherit\; font-size: 16px\; line-height: inherit\; font-family: " vertical-align:="">\n	<li style="box-sizing: border-box\; margin: 0px 0px 0px 1em\; padding: 3px 0px\; border: 0px rgba(189\, 191\, 193\, 0.4)\; font: inherit\; vertical-align: baseline\;">Employee engagement: How do I get my employees to care about the work we do?</li>\n	<li style="box-sizing: border-box\; margin: 0px 0px 0px 1em\; padding: 3px 0px\; border: 0px rgba(189\, 191\, 193\, 0.4)\; font: inherit\; vertical-align: baseline\;">Managing teams in-person and remotely</li>\n	<li style="box-sizing: border-box\; margin: 0px 0px 0px 1em\; padding: 3px 0px\; border: 0px rgba(189\, 191\, 193\, 0.4)\; font: inherit\; vertical-align: baseline\;">How to be an effective team leader</li>\n	<li style="box-sizing: border-box\; margin: 0px 0px 0px 1em\; padding: 3px 0px\; border: 0px rgba(189\, 191\, 193\, 0.4)\; font: inherit\; vertical-align: baseline\;">Managing a multi-generational workforce</li>\n	<li style="box-sizing: border-box\; margin: 0px 0px 0px 1em\; padding: 3px 0px\; border: 0px rgba(189\, 191\, 193\, 0.4)\; font: inherit\; vertical-align: baseline\;">How to effectively communicate with employees to achieve optimal results</li>\n</ul>\n
LOCATION:Strategic HR Inc. 8160 Corporate Park Drive\, Suite #200 Cincinnati\, OH *This training is currently scheduled to be held in-person\, but is subject to change to a virtual environment depending upon the state of the COVID-19 pandemic.
UID:e.1451.15046
SEQUENCE:3
DTSTAMP:20260424T093916Z
URL:https://business.pickeringtonchamber.com/events/details/strategic-hr-inc-advanced-supervisor-training-15046
END:VEVENT

END:VCALENDAR
