BEGIN:VCALENDAR
VERSION:2.0
PRODID:-//ChamberMaster//Event Calendar 2.0//EN
METHOD:PUBLISH
X-PUBLISHED-TTL:P3D
REFRESH-INTERVAL:P3D
CALSCALE:GREGORIAN
BEGIN:VEVENT
DTSTART:20210928T153000Z
DTEND:20210928T170000Z
X-MICROSOFT-CDO-ALLDAYEVENT:FALSE
SUMMARY:State of Fairfield County
DESCRIPTION:Join Fairfield County on Tuesday\, September 28\, 2021\, at 11:30 a.m. for the Annual State of the County Address.  During this event you will hear about all the fabulous things taking place within Fairfield County.
X-ALT-DESC;FMTTYPE=text/html:<br />\nJoin<strong> Fairfield County </strong>on <strong>Tuesday\, September 28\, 2021\, </strong>at 11:30 a.m. for the <strong>Annual State of the County Address.&nbsp\;</strong> During this event you will hear about all the fabulous things taking place within Fairfield County.&nbsp\;&nbsp\;
LOCATION:The Wigwam Event Center 10190 Blacklick Eastern Rd. NW Pickerington
UID:e.1451.15437
SEQUENCE:3
DTSTAMP:20260424T044933Z
URL:https://business.pickeringtonchamber.com/events/details/state-of-fairfield-county-15437
END:VEVENT

END:VCALENDAR
