BEGIN:VCALENDAR
VERSION:2.0
PRODID:-//ChamberMaster//Event Calendar 2.0//EN
METHOD:PUBLISH
X-PUBLISHED-TTL:P3D
REFRESH-INTERVAL:P3D
CALSCALE:GREGORIAN
BEGIN:VEVENT
DTSTART:20240528T140000Z
DTEND:20240528T190000Z
X-MICROSOFT-CDO-ALLDAYEVENT:FALSE
SUMMARY:Small Business Development Advising Hours (Free)
DESCRIPTION:The Ohio Small Business Development Centers will be holding advising hours at the Chamber office every other Tuesday\, from 10 a.m.-3 p.m. (with break from 12-1).\n\n\n\nGet free consulting and support on topics\, including:\n\n	Business assessment valuation\n	Cash flow analysis\n	Financial projections development\n	Identifying sources of capital\n	Inventory control assessment\n	Market feasibility and research\n	Marketing strategy development\n	Strategic business planning
X-ALT-DESC;FMTTYPE=text/html:The Ohio Small Business Development Centers will be holding advising hours at the Chamber office every other Tuesday\, from 10 a.m.-3 p.m. (with break from 12-1).<br />\n<br />\nGet free consulting and support on topics\, including:\n<ul>\n	<li><span class="OYPEnA text-decoration-none text-strikethrough-none">Business assessment valuation</span></li>\n	<li><span class="OYPEnA text-decoration-none text-strikethrough-none">Cash flow analysis</span></li>\n	<li><span class="OYPEnA text-decoration-none text-strikethrough-none">Financial projections development</span></li>\n	<li><span class="OYPEnA text-decoration-none text-strikethrough-none">Identifying sources of capital</span></li>\n	<li><span class="OYPEnA text-decoration-none text-strikethrough-none">Inventory control assessment</span></li>\n	<li><span class="OYPEnA text-decoration-none text-strikethrough-none">Market feasibility and research</span></li>\n	<li><span class="OYPEnA text-decoration-none text-strikethrough-none">Marketing strategy development</span></li>\n	<li><span class="OYPEnA text-decoration-none text-strikethrough-none">Strategic business planning</span></li>\n</ul>\n
LOCATION:Pickerington Area Chamber 21 Lockville Rd.\, Ste. 100 (entrance faces Columbus St.) Pickerington
UID:e.1451.16879
SEQUENCE:3
DTSTAMP:20260422T010023Z
URL:https://business.pickeringtonchamber.com/events/details/small-business-development-advising-hours-free-05-28-2024-16879
END:VEVENT

END:VCALENDAR
