BEGIN:VCALENDAR
VERSION:2.0
PRODID:-//ChamberMaster//Event Calendar 2.0//EN
METHOD:PUBLISH
X-PUBLISHED-TTL:P3D
REFRESH-INTERVAL:P3D
CALSCALE:GREGORIAN
BEGIN:VEVENT
DTSTART:20200327T183000Z
DTEND:20200327T193000Z
X-MICROSOFT-CDO-ALLDAYEVENT:FALSE
SUMMARY:Small Business Call with Congressman Steve Stivers
DESCRIPTION:Our current situation is unlike anything this country has ever experienced\, and I know that our small business owners are feeling that stress and uncertainty more than any one else. \n\nI am here to help any way I can\, and want to make sure you have the resources and information you need to keep your businesses running\, employees on payroll\, and our economy moving forward.\n\nThis Friday\, March 27th\, I'll be hosting a conference call to hear from you.  As Congress considers ways to support small businesses through this pandemic\, I want to hear what you need and what would be most helpful.\n\nWe'll also be discussing some of the options already available\, including the Small Business Administration's Economic Injury Disaster Loans\, and other options that may benefit your business.\n\nJoining me on the call will be a representative from the Small Business Administration to help answer your questions.
X-ALT-DESC;FMTTYPE=text/html:&nbsp\;\n<p style="color: rgb(29\, 34\, 40)\; font-family: arial\, helvetica\, sans-serif\;"><span style="font-family: Arial\;">Our current situation is unlike anything this country has ever experienced\, and I know that our small business owners are feeling that stress and uncertainty more than any one else.&nbsp\;</span></p>\n\n<p style="color: rgb(29\, 34\, 40)\; font-family: arial\, helvetica\, sans-serif\;"><span style="font-family: Arial\;">I am here to help any way I can\, and want to make sure you have the resources and information you need to keep your businesses running\, employees on payroll\, and our economy moving forward.</span></p>\n\n<p style="color: rgb(29\, 34\, 40)\; font-family: arial\, helvetica\, sans-serif\;"><span style="font-family: Arial\;">This Friday\, March 27<sup>th</sup>\, I&rsquo\;ll be hosting a conference call to hear from you.&nbsp\; As Congress considers ways to support small businesses through this pandemic\, I want to hear what you need and what would be most helpful.</span></p>\n\n<p style="color: rgb(29\, 34\, 40)\; font-family: arial\, helvetica\, sans-serif\;"><span style="font-family: Arial\;">We&rsquo\;ll also be discussing some of the options already available\, including the Small Business Administration&rsquo\;s Economic Injury Disaster Loans\, and other options that may benefit your business.</span></p>\n\n<p style="color: rgb(29\, 34\, 40)\; font-family: arial\, helvetica\, sans-serif\;"><span style="font-family: Arial\;">Joining me on the call will be a representative from the Small Business Administration to help answer your questions.</span></p>\n
LOCATION:From the comfort of your office/home.
UID:e.1451.14306
SEQUENCE:3
DTSTAMP:20260425T104855Z
URL:https://business.pickeringtonchamber.com/events/details/small-business-call-with-congressman-steve-stivers-14306
END:VEVENT

END:VCALENDAR
