BEGIN:VCALENDAR
VERSION:2.0
PRODID:-//ChamberMaster//Event Calendar 2.0//EN
METHOD:PUBLISH
X-PUBLISHED-TTL:P3D
REFRESH-INTERVAL:P3D
CALSCALE:GREGORIAN
BEGIN:VEVENT
DTSTART:20221203T000000Z
DTEND:20221203T030000Z
X-MICROSOFT-CDO-ALLDAYEVENT:FALSE
SUMMARY:Sidewalk Prophets "Great Big Family"
DESCRIPTION:Great Big Family Productions presents Sidewalk Prophet's "Great Big Family Christmas". Coming To Columbus\, OH December 2nd\, 2022 at Worthington Christian Church from 7pm-10pm. Join Dove Award winning band Sidewalk Prophet's as they welcome you out from the cold of winter\, and into the warmth of the Great Big Family Room. The Great Big Family Christmas is all about making Christmas memories\, and most importantly celebrating the birth of Christ. The night features a joy-filled Christmas concert featuring Sidewalk Prophet's original Christmas music\, as well as\, the hit songs that you know and love. In addition to the music\, this night is full of surprises\, and maybe some surprise gifts too! To cap things off\, the tour ends each night by raising funds for a local charity or individual in need and has a goal of giving away over 1 million dollars to those in need within the next 10 years. Bring your friends\, bring your family\, bring a stranger because this Christmas we're all a part of the Great Big Family\, and we're gonna celebrate!
X-ALT-DESC;FMTTYPE=text/html:Great Big Family Productions presents Sidewalk Prophet&#39\;s &quot\;Great Big Family Christmas&quot\;. Coming To Columbus\, OH December 2nd\, 2022 at Worthington Christian Church from 7pm-10pm. Join Dove Award winning band Sidewalk Prophet&#39\;s as they welcome you out from the cold of winter\, and into the warmth of the Great Big Family Room. The Great Big Family Christmas is all about making Christmas memories\, and most importantly celebrating the birth of Christ. The night features a joy-filled Christmas concert featuring Sidewalk Prophet&#39\;s original Christmas music\, as well as\, the hit songs that you know and love. In addition to the music\, this night is full of surprises\, and maybe some surprise gifts too! To cap things off\, the tour ends each night by raising funds for a local charity or individual in need and has a goal of giving away over 1 million dollars to those in need within the next 10 years. Bring your friends\, bring your family\, bring a stranger because this Christmas we&#39\;re all a part of the Great Big Family\, and we&#39\;re gonna celebrate!
LOCATION:Worthington Christian Church 8145 N High St. Columbus\, OH 43235
UID:e.1451.15807
SEQUENCE:3
DTSTAMP:20260423T044140Z
URL:https://business.pickeringtonchamber.com/events/details/sidewalk-prophets-great-big-family-15807
END:VEVENT

END:VCALENDAR
