BEGIN:VCALENDAR
VERSION:2.0
PRODID:-//ChamberMaster//Event Calendar 2.0//EN
METHOD:PUBLISH
X-PUBLISHED-TTL:P3D
REFRESH-INTERVAL:P3D
CALSCALE:GREGORIAN
BEGIN:VEVENT
DTSTART:20190706T150000Z
DTEND:20190706T160000Z
X-MICROSOFT-CDO-ALLDAYEVENT:FALSE
SUMMARY:Sensory Stories and Play
DESCRIPTION:Sensory Stories and Play is an all ages class specifically designed for children with special needs\, combining books\, songs\, movement\, and sensory activities into a program that stimulates all five senses and promotes learning in a fun way.  It will feature dim lights\, quieter music\, fidget toys\, interactive learning\, a visual schedule\, and the flexibility for children to move. \n\n\n\nThis program was funded through an Institute of Museum and Library Services LSTA grant awarded by the State Library of Ohio and by a donation from Academic and Behavioral Learning Enrichment in Columbus.
X-ALT-DESC;FMTTYPE=text/html:<span style="font-size: 12pt\; line-height: 107%\; font-family: Arial\, sans-serif\; color: windowtext\;">Sensory Stories and Play is an all ages class specifically designed for children with special needs\, combining books\, songs\, movement\, and sensory activities into a program that stimulates all five senses and promotes learning in a fun way.&nbsp\; It will feature dim lights\, quieter music\, fidget toys\, interactive learning\, a visual schedule\, and the flexibility for children to move.&nbsp\;</span><br />\n<br />\n<i><span style="font-size: 10pt\; line-height: 107%\; font-family: Arial\, sans-serif\; color: windowtext\;">This program was funded through an Institute of Museum and Library Services LSTA grant awarded by the State Library of Ohio and by a donation from Academic and Behavioral Learning Enrichment in Columbus.</span></i>
LOCATION:Pickerington Public Library 201 Opportunity Way Pickerington\, OH 43147
UID:e.1451.12975
SEQUENCE:3
DTSTAMP:20260425T222237Z
URL:https://business.pickeringtonchamber.com/events/details/sensory-stories-and-play-12975
END:VEVENT

END:VCALENDAR
