BEGIN:VCALENDAR
VERSION:2.0
PRODID:-//ChamberMaster//Event Calendar 2.0//EN
METHOD:PUBLISH
X-PUBLISHED-TTL:P3D
REFRESH-INTERVAL:P3D
CALSCALE:GREGORIAN
BEGIN:VEVENT
DTSTART:20210519T020000Z
DTEND:20210519T030000Z
X-MICROSOFT-CDO-ALLDAYEVENT:FALSE
SUMMARY:Sedgwick presents- Intro to Worker's Comp
DESCRIPTION:Destination Excellence \n\nDesigned for private employers\n\n\nThe Ohio Bureau of Workers' Compensation (BWC) Destination Excellence is a portfolio of programs that encourages employers to increase worker safety and reduce costs. This session will define the individual programs\, outline the available discounts or rebates associated with each and navigate the requirements\, as well as the compatibility and deadlines.
X-ALT-DESC;FMTTYPE=text/html:<div style="text-align: center\;"><strong>Destination Excellence&nbsp\;</strong><br />\n<span style="font-size:11px\;"><em>Designed for private employers</em></span></div>\n<br />\n<span style="color:black\;">The Ohio Bureau of Workers&rsquo\; Compensation (BWC) Destination Excellence is a portfolio of programs that encourages employers to increase worker safety and reduce costs. This session will define the individual programs\, outline the available discounts or rebates associated with each and navigate the requirements\, as well as the compatibility and deadlines.</span><br />\n<br />\n&nbsp\;
LOCATION:Virtual: Three business days prior to the webinar date\, you will receive an email from seminarrsvp@sedgwick.com. The email will include detailed instructions on how to join the webinar along with a copy of the presentation (if applicable). Please be sure to add this email address to your Safe Sender email file to ensure receipt.
UID:e.1451.15048
SEQUENCE:3
DTSTAMP:20260424T112432Z
URL:https://business.pickeringtonchamber.com/events/details/sedgwick-presents-intro-to-worker-s-comp-15048
END:VEVENT

END:VCALENDAR
