BEGIN:VCALENDAR
VERSION:2.0
PRODID:-//ChamberMaster//Event Calendar 2.0//EN
METHOD:PUBLISH
X-PUBLISHED-TTL:P3D
REFRESH-INTERVAL:P3D
CALSCALE:GREGORIAN
BEGIN:VEVENT
DTSTART:20210513T180000Z
DTEND:20210513T190000Z
X-MICROSOFT-CDO-ALLDAYEVENT:FALSE
SUMMARY:Sedgwick presents- Intro to Worker's Comp
DESCRIPTION:This session is designed to provide a summary of the fundamental principles of Ohio's workers' compensation system\, including the roles and responsibilities of the resources available to you: the Bureau of Workers' Compensation\, Industrial Commission\, Third Party Administrator and Managed Care Organization.
X-ALT-DESC;FMTTYPE=text/html:<br />\n<span style="color:black\;">This session is designed to provide a summary of the fundamental principles of Ohio&rsquo\;s workers&rsquo\; compensation system\, including the roles and responsibilities of the resources available to you: the Bureau of Workers&rsquo\; Compensation\, Industrial Commission\, Third Party Administrator and Managed Care Organization.</span>
LOCATION:Virtual: Three business days prior to the webinar date\, you will receive an email from seminarrsvp@sedgwick.com. The email will include detailed instructions on how to join the webinar along with a copy of the presentation (if applicable). Please be sure to add this email address to your Safe Sender email file to ensure receipt.
UID:e.1451.15047
SEQUENCE:3
DTSTAMP:20260424T124432Z
URL:https://business.pickeringtonchamber.com/events/details/sedgwick-presents-intro-to-worker-s-comp-15047
END:VEVENT

END:VCALENDAR
