BEGIN:VCALENDAR
VERSION:2.0
PRODID:-//ChamberMaster//Event Calendar 2.0//EN
METHOD:PUBLISH
X-PUBLISHED-TTL:P3D
REFRESH-INTERVAL:P3D
CALSCALE:GREGORIAN
BEGIN:VEVENT
DTSTART:20211007T130000Z
DTEND:20211007T140000Z
X-MICROSOFT-CDO-ALLDAYEVENT:FALSE
SUMMARY:SBDC Virtual Training- The Will to Sell & Grow
DESCRIPTION:The Will to Sell & Grow Virtual Training October 7\, 2021\n\n\n\nIf you have ever wondered what separates good from GREAT businesses & salespeople\, you will find out in this workshop. You will begin to understand what the 5 components of The Will to Sell are & how they impact your own success & the success of your team. This session will take some self-analysis\, but will be well worth the effort.
X-ALT-DESC;FMTTYPE=text/html:<h1 style="margin: 0px\; padding: 0px\; font-size: 26px\; color: rgb(60\, 60\, 60)\; line-height: 31px\; font-family: Arial\, Helvetica\, sans-serif\;"><span id="span_event_title">The Will to Sell &amp\; Grow Virtual Training October 7\, 2021</span></h1>\n\n<p style="margin: 0px 0px 18px\; padding: 0px\; font-family: Arial\, Helvetica\, sans-serif\; font-size: 12px\;"><br />\nIf you have ever wondered what separates good from GREAT businesses &amp\; salespeople\, you will find out in this workshop. You will begin to understand what the 5 components of The Will to Sell are &amp\; how they impact your own success &amp\; the success of your team. This session will take some self-analysis\, but will be well worth the effort.</p>\n
LOCATION:Virtual Training- Register here!
UID:e.1451.15469
SEQUENCE:3
DTSTAMP:20260424T042407Z
URL:https://business.pickeringtonchamber.com/events/details/sbdc-virtual-training-the-will-to-sell-grow-15469
END:VEVENT

END:VCALENDAR
