BEGIN:VCALENDAR
VERSION:2.0
PRODID:-//ChamberMaster//Event Calendar 2.0//EN
METHOD:PUBLISH
X-PUBLISHED-TTL:P3D
REFRESH-INTERVAL:P3D
CALSCALE:GREGORIAN
BEGIN:VEVENT
DTSTART:20210921T180000Z
DTEND:20210921T200000Z
X-MICROSOFT-CDO-ALLDAYEVENT:FALSE
SUMMARY:SBDC Virtual Training- QuickBooks Pro: Recording Payments
DESCRIPTION:The objective of the training is for the participants to gain an understanding of QuickBooks & be able to us the software to:\n\n-Receiving Payments\n\n-Working with customers\n\n-Working with vendors\n\n-Creating reports
X-ALT-DESC;FMTTYPE=text/html:<span style="font-family: Arial\, Helvetica\, sans-serif\; font-size: 12px\; background-color: rgb(246\, 246\, 246)\;">The objective of the training is for the participants to gain an understanding of QuickBooks &amp\; be able to us the software to:<br />\n-Receiving Payments<br />\n-Working with customers<br />\n-Working with vendors<br />\n-Creating reports</span>
LOCATION:Virtual Training- Register here!
UID:e.1451.15447
SEQUENCE:3
DTSTAMP:20260424T044736Z
URL:https://business.pickeringtonchamber.com/events/details/sbdc-virtual-training-quickbooks-pro-recording-payments-15447
END:VEVENT

END:VCALENDAR
