BEGIN:VCALENDAR
VERSION:2.0
PRODID:-//ChamberMaster//Event Calendar 2.0//EN
METHOD:PUBLISH
X-PUBLISHED-TTL:P3D
REFRESH-INTERVAL:P3D
CALSCALE:GREGORIAN
BEGIN:VEVENT
DTSTART:20210928T180000Z
DTEND:20210928T200000Z
X-MICROSOFT-CDO-ALLDAYEVENT:FALSE
SUMMARY:SBDC Virtual Training- QuickBooks Pro: Inventory & Statements
DESCRIPTION:The objective of this training is for the participants to gain an understanding of QuickBooks and be able to use the software to:\n\n-Track Inventory\n\n-Understand Statements\n\n-Bank Reconciliations\n\n-Other Bells & Whistles
X-ALT-DESC;FMTTYPE=text/html:<p style="margin: 0px 0px 18px\; padding: 0px\; font-family: Arial\, Helvetica\, sans-serif\; font-size: 12px\;">The objective of this training is for the participants to gain an understanding of QuickBooks and be able to use the software to:<br />\n-Track Inventory<br />\n-Understand Statements<br />\n-Bank Reconciliations<br />\n-Other Bells &amp\; Whistles</p>\n\n<div data-reg-preview="{&quot\;inPreviewMode&quot\;:false\,&quot\;previewType&quot\;:null}" id="reg-preview-message" style="margin: 0px\; padding: 0px\; font-family: Arial\, Helvetica\, sans-serif\; font-size: 12px\;">&nbsp\;</div>\n\n<form action="https://events.r20.constantcontact.com/register/eventReg?oeidk=a07eidikj5t9a4ea9d7" id="evp_registration_base_id" method="post" style="margin: 0px\; padding: 0px\; font-family: Arial\, Helvetica\, sans-serif\; font-size: 12px\;">\n<div id="reg_form" style="margin: 0px\; padding: 0px\; overflow: visible\;">\n<div class="right_col" style="margin: 0px\; padding: 0px\;">&nbsp\;</div>\n</div>\n</form>\n
LOCATION:Virtual Training- Register here!
UID:e.1451.15451
SEQUENCE:3
DTSTAMP:20260424T044711Z
URL:https://business.pickeringtonchamber.com/events/details/sbdc-virtual-training-quickbooks-pro-inventory-statements-15451
END:VEVENT

END:VCALENDAR
