BEGIN:VCALENDAR
VERSION:2.0
PRODID:-//ChamberMaster//Event Calendar 2.0//EN
METHOD:PUBLISH
X-PUBLISHED-TTL:P3D
REFRESH-INTERVAL:P3D
CALSCALE:GREGORIAN
BEGIN:VEVENT
DTSTART:20210914T180000Z
DTEND:20210914T200000Z
X-MICROSOFT-CDO-ALLDAYEVENT:FALSE
SUMMARY:SBDC Virtual Training- QuickBooks Pro: Getting Started
DESCRIPTION:The objective of the training is for the participants to gain an understanding of QuickBooks & be able to use the software to: -Set up a company -Creating Chart of Accounts -Working with Check Registry -Creating Item Lists -Invoicing
X-ALT-DESC;FMTTYPE=text/html:<p style="margin: 0px 0px 18px\; padding: 0px\; font-family: Arial\, Helvetica\, sans-serif\; font-size: 12px\;"><span style="font-family: Arial\, Helvetica\, sans-serif\; font-size: 12px\; background-color: rgb(246\, 246\, 246)\;">The objective of the training is for the participants to gain an understanding of QuickBooks &amp\; be able to use the software to: -Set up a company -Creating Chart of Accounts -Working with Check Registry -Creating Item Lists -Invoicing</span></p>\n
LOCATION:Virtual Training- Register here!
UID:e.1451.15442
SEQUENCE:3
DTSTAMP:20260424T044141Z
URL:https://business.pickeringtonchamber.com/events/details/sbdc-virtual-training-quickbooks-pro-getting-started-15442
END:VEVENT

END:VCALENDAR
