BEGIN:VCALENDAR
VERSION:2.0
PRODID:-//ChamberMaster//Event Calendar 2.0//EN
METHOD:PUBLISH
X-PUBLISHED-TTL:P3D
REFRESH-INTERVAL:P3D
CALSCALE:GREGORIAN
BEGIN:VEVENT
DTSTART:20210923T180000Z
DTEND:20210923T210000Z
X-MICROSOFT-CDO-ALLDAYEVENT:FALSE
SUMMARY:SBDC Virtual Training- Optimizing Your Amazon Seller Account
DESCRIPTION:Are you ready to take your Amazon sales to the next level? In this class you will learn about:\n\n-Product listing optimization\n\n-Amazon Score Cards\n\n-Earning customer reviews\n\n-Brand registry\n\n-Amazon Ads\n\n-Amazon Live\n\n-Amazon Posts\n\n-Third Party tools & software to save time managing your account\n\n-Questions & much more
X-ALT-DESC;FMTTYPE=text/html:<p style="margin: 0px 0px 18px\; padding: 0px\; font-family: Arial\, Helvetica\, sans-serif\; font-size: 12px\;"><span style="font-family: Arial\, Helvetica\, sans-serif\; font-size: 12px\; background-color: rgb(246\, 246\, 246)\;">Are you ready to take your Amazon sales to the next level? In this class you will learn about:<br />\n-Product listing optimization<br />\n-Amazon Score Cards<br />\n-Earning customer reviews<br />\n-Brand registry<br />\n-Amazon Ads<br />\n-Amazon Live<br />\n-Amazon Posts<br />\n-Third Party tools &amp\; software to save time managing your account<br />\n-Questions &amp\; much more</span></p>\n
LOCATION:Virtual Training- Register here!
UID:e.1451.15449
SEQUENCE:3
DTSTAMP:20260424T061236Z
URL:https://business.pickeringtonchamber.com/events/details/sbdc-virtual-training-optimizing-your-amazon-seller-account-15449
END:VEVENT

END:VCALENDAR
