BEGIN:VCALENDAR
VERSION:2.0
PRODID:-//ChamberMaster//Event Calendar 2.0//EN
METHOD:PUBLISH
X-PUBLISHED-TTL:P3D
REFRESH-INTERVAL:P3D
CALSCALE:GREGORIAN
BEGIN:VEVENT
DTSTART:20210914T160000Z
DTEND:20210914T170000Z
X-MICROSOFT-CDO-ALLDAYEVENT:FALSE
SUMMARY:SBDC Virtual Training- Lunch&Learn: Preparing for Taxes
DESCRIPTION:In this class you will learn the following: -putting the numbers together -assets -travel/mileage -organizing for your preparer -Q&A
X-ALT-DESC;FMTTYPE=text/html:<p style="margin: 0px 0px 18px\; padding: 0px\; font-family: Arial\, Helvetica\, sans-serif\; font-size: 12px\;"><span style="font-family: Arial\, Helvetica\, sans-serif\; font-size: 12px\; background-color: rgb(246\, 246\, 246)\;">In this class you will learn the following: -putting the numbers together -assets -travel/mileage -organizing for your preparer -Q&amp\;A</span></p>\n
LOCATION:Virtual Training- Register here!
UID:e.1451.15441
SEQUENCE:3
DTSTAMP:20260424T044834Z
URL:https://business.pickeringtonchamber.com/events/details/sbdc-virtual-training-lunch-learn-preparing-for-taxes-15441
END:VEVENT

END:VCALENDAR
