BEGIN:VCALENDAR
VERSION:2.0
PRODID:-//ChamberMaster//Event Calendar 2.0//EN
METHOD:PUBLISH
X-PUBLISHED-TTL:P3D
REFRESH-INTERVAL:P3D
CALSCALE:GREGORIAN
BEGIN:VEVENT
DTSTART:20210921T160000Z
DTEND:20210921T170000Z
X-MICROSOFT-CDO-ALLDAYEVENT:FALSE
SUMMARY:SBDC Virtual Training- Lunch&Learn: Personalizing Your Invoices & Statements in Quickbooks
DESCRIPTION:In this No-Cost Virtual Training you will learn about:\n\n-Logos\n\n-What wording your should add\n\n-Customer Fields\n\n-Q&A
X-ALT-DESC;FMTTYPE=text/html:<p style="margin: 0px 0px 18px\; padding: 0px\; font-family: Arial\, Helvetica\, sans-serif\; font-size: 12px\;"><span style="font-family: Arial\, Helvetica\, sans-serif\; font-size: 12px\; background-color: rgb(246\, 246\, 246)\;">In this No-Cost Virtual Training you will learn about:<br />\n-Logos<br />\n-What wording your should add<br />\n-Customer Fields<br />\n-Q&amp\;A</span></p>\n
LOCATION:Virtual Training- Register here!
UID:e.1451.15446
SEQUENCE:3
DTSTAMP:20260424T062248Z
URL:https://business.pickeringtonchamber.com/events/details/sbdc-virtual-training-lunch-learn-personalizing-your-invoices-statements-in-quickbooks-15446
END:VEVENT

END:VCALENDAR
