BEGIN:VCALENDAR
VERSION:2.0
PRODID:-//ChamberMaster//Event Calendar 2.0//EN
METHOD:PUBLISH
X-PUBLISHED-TTL:P3D
REFRESH-INTERVAL:P3D
CALSCALE:GREGORIAN
BEGIN:VEVENT
DTSTART:20210928T160000Z
DTEND:20210928T170000Z
X-MICROSOFT-CDO-ALLDAYEVENT:FALSE
SUMMARY:SBDC Virtual Training- Lunch&Learn: Goal Setting
DESCRIPTION:In this no-cost Lunch & Learn\, you will learn about:\n\n-Choosing your goals\n\n-Mapping goals\n\n-Evaluating & Reaching\n\n-Q&A
X-ALT-DESC;FMTTYPE=text/html:<p style="margin: 0px 0px 18px\; padding: 0px\; font-family: Arial\, Helvetica\, sans-serif\; font-size: 12px\;"><span style="font-family: Arial\, Helvetica\, sans-serif\; font-size: 12px\; background-color: rgb(246\, 246\, 246)\;">In this no-cost Lunch &amp\; Learn\, you will learn about:<br />\n-Choosing your goals<br />\n-Mapping goals<br />\n-Evaluating &amp\; Reaching<br />\n-Q&amp\;A</span></p>\n
LOCATION:Virtual Training- Register here!
UID:e.1451.15450
SEQUENCE:3
DTSTAMP:20260424T044141Z
URL:https://business.pickeringtonchamber.com/events/details/sbdc-virtual-training-lunch-learn-goal-setting-15450
END:VEVENT

END:VCALENDAR
