BEGIN:VCALENDAR
VERSION:2.0
PRODID:-//ChamberMaster//Event Calendar 2.0//EN
METHOD:PUBLISH
X-PUBLISHED-TTL:P3D
REFRESH-INTERVAL:P3D
CALSCALE:GREGORIAN
BEGIN:VEVENT
DTSTART:20210917T130000Z
DTEND:20210917T140000Z
X-MICROSOFT-CDO-ALLDAYEVENT:FALSE
SUMMARY:SBDC Virtual Training- Let's Talk Personal Commitment
DESCRIPTION:Did you know that your personal commitment to success in growing your business ties directly to your success in gaining the commitment of your prospects & achieving your growth goals? Business owners who are personally committed make thing happen. This workshop will help you with a process to access your own personal commitment to success.
X-ALT-DESC;FMTTYPE=text/html:<p style="margin: 0px 0px 18px\; padding: 0px\; font-family: Arial\, Helvetica\, sans-serif\; font-size: 12px\;">&nbsp\;</p>\n\n<div data-reg-preview="{&quot\;inPreviewMode&quot\;:false\,&quot\;previewType&quot\;:null}" id="reg-preview-message" style="margin: 0px\; padding: 0px\; font-family: Arial\, Helvetica\, sans-serif\; font-size: 12px\;"><span style="font-family: Arial\, Helvetica\, sans-serif\; font-size: 12px\; background-color: rgb(246\, 246\, 246)\;">Did you know that your personal commitment to success in growing your business ties directly to your success in gaining the commitment of your prospects &amp\; achieving your growth goals? Business owners who are personally committed make thing happen. This workshop will help you with a process to access your own personal commitment to success.</span></div>\n\n<div id="reg_form" style="margin: 0px\; padding: 0px\; overflow: visible\;">\n<div class="right_col" style="margin: 0px\; padding: 0px\;">&nbsp\;</div>\n</div>\n
LOCATION:Virtual Training- Register here!
UID:e.1451.15444
SEQUENCE:3
DTSTAMP:20260424T044109Z
URL:https://business.pickeringtonchamber.com/events/details/sbdc-virtual-training-let-s-talk-personal-commitment-15444
END:VEVENT

END:VCALENDAR
